BEGIN:VCALENDAR
VERSION:2.0
PRODID:-//ChamberMaster//Event Calendar 2.0//EN
METHOD:PUBLISH
X-PUBLISHED-TTL:P3D
REFRESH-INTERVAL:P3D
CALSCALE:GREGORIAN
BEGIN:VEVENT
DTSTART:20210822T220000Z
DTEND:20210822T230000Z
X-MICROSOFT-CDO-ALLDAYEVENT:FALSE
SUMMARY:Desueño Dance Outdoor Showcase
DESCRIPTION:We invite you to enjoy an afternoon of dance performances presented by Desue o Dance. Join us as we present choreography from a variety of dance styles including Salsa\, Bachata\, Cha-Cha\, and more. Feel free to bring your lawn chairs to the Northcenter Town Square for this special community performance. In the event of rain\, performance will be rescheduled. Open to the public. August 22\, 2021 5:00 PM   6:00 PM Northcenter Town Square 4100 North Damen Ave\, Chicago\, IL Desue o Dance is an Afro Latin Jazz dance company created under the direction of Denita Inez. Desue o focuses on teaching\, performing\, and sharing the joy of dance. We perform choreography inspired by African and Latin rhythms fused with modern and jazz movements.
X-ALT-DESC;FMTTYPE=text/html:We invite you to enjoy an afternoon of dance performances presented by Desue&ntilde\;o Dance. Join us as we present choreography from a variety of dance styles including Salsa\, Bachata\, Cha-Cha\, and more. Feel free to bring your lawn chairs to the Northcenter Town Square for this special community performance. In the event of rain\, performance will be rescheduled. Open to the public. August 22\, 2021 5:00 PM &ndash\; 6:00 PM Northcenter Town Square 4100 North Damen Ave\, Chicago\, IL Desue&ntilde\;o Dance is an Afro Latin Jazz dance company created under the direction of Denita Inez. Desue&ntilde\;o focuses on teaching\, performing\, and sharing the joy of dance. We perform choreography inspired by African and Latin rhythms fused with modern and jazz movements.
LOCATION:Northcenter Town Square
UID:e.1775.16338
SEQUENCE:3
DTSTAMP:20260421T011614Z
URL:https://business.northcenterchamber.com/events/details/desue&#241;o-dance-outdoor-showcase-16338
END:VEVENT

END:VCALENDAR
