BEGIN:VCALENDAR
VERSION:2.0
PRODID:-//ChamberMaster//Event Calendar 2.0//EN
METHOD:PUBLISH
X-PUBLISHED-TTL:P3D
REFRESH-INTERVAL:P3D
CALSCALE:GREGORIAN
BEGIN:VEVENT
DTSTART:20200828T003000Z
DTEND:20200828T020000Z
X-MICROSOFT-CDO-ALLDAYEVENT:FALSE
SUMMARY:digital_TCP: Devonté Hynes
DESCRIPTION:Join us for our first livestream concert of the 20/21 season! We'll be featuring music written for us by Devont  Hynes (aka Blood Orange)\, from our 2019 album Fields. The concert starts at 5:30pm PT / 6:30pm MT / 7:30pm CT / 8:30pm ET\, and Dev will be joining us live (remotely) for a Q&A after the performance of his works. In addition\, we'll be featuring a screening of a music video featuring music from the album's eponymous track and movement by Rena Butler of Hubbard Street Dance Chicago. Plus\, we're inviting creators to participate with us! Creators of all kinds are invited to respond to the music from Fields\, and submit your creation for sharing on our social media and during the livestream. More info and instructions at the link below! We can't wait to see your work!
X-ALT-DESC;FMTTYPE=text/html:Join us for our first livestream concert of the 20/21 season! We&#39\;ll be featuring music written for us by Devont&eacute\; Hynes (aka Blood Orange)\, from our 2019 album Fields. The concert starts at 5:30pm PT / 6:30pm MT / 7:30pm CT / 8:30pm ET\, and Dev will be joining us live (remotely) for a Q&amp\;A after the performance of his works. In addition\, we&#39\;ll be featuring a screening of a music video featuring music from the album&#39\;s eponymous track and movement by Rena Butler of Hubbard Street Dance Chicago. Plus\, we&#39\;re inviting creators to participate with us! Creators of all kinds are invited to respond to the music from Fields\, and submit your creation for sharing on our social media and during the livestream. More info and instructions at the link below! We can&#39\;t wait to see your work!
LOCATION:Online!
UID:e.1775.15852
SEQUENCE:3
DTSTAMP:20260425T223419Z
URL:https://business.northcenterchamber.com/events/details/digital_tcp-devont&#233;-hynes-15852
END:VEVENT

END:VCALENDAR
