BEGIN:VCALENDAR
VERSION:2.0
PRODID:-//ChamberMaster//Event Calendar 2.0//EN
METHOD:PUBLISH
X-PUBLISHED-TTL:P3D
REFRESH-INTERVAL:P3D
CALSCALE:GREGORIAN
BEGIN:VEVENT
DTSTART:20200919T233000Z
DTEND:20200920T013000Z
X-MICROSOFT-CDO-ALLDAYEVENT:FALSE
SUMMARY:Do Not Submit Storytelling Open Mic
DESCRIPTION:Storytelling open mic. Free to anyone who'd like to share a tale or just to listen. www.donotsubmitchicago.com
X-ALT-DESC;FMTTYPE=text/html:<div class="emOPE___entry-EntryContainer__cls1" data-component="entry" style="box-sizing: inherit\; position: relative\; margin-bottom: 20px\; color: rgb(77\, 80\, 85)\; font-family: &quot\;Proxima Nova&quot\;\, sans-serif\; font-size: 16px\;">\n<div class="mbm _3cQHZ___questions-Item__cls1" style="box-sizing: inherit\; margin-bottom: 20px\;">\n<div style="box-sizing: inherit\;">Storytelling open mic. Free to anyone who&#39\;d like to share a tale or just to listen. www.donotsubmitchicago.com</div>\n\n<div>&nbsp\;</div>\n</div>\n</div>\n
LOCATION:Northcenter Town Square\, 4100 N. Damen
UID:e.1775.15861
SEQUENCE:3
DTSTAMP:20260425T204837Z
URL:https://business.northcenterchamber.com/events/details/do-not-submit-storytelling-open-mic-15861
END:VEVENT

END:VCALENDAR
