BEGIN:VCALENDAR
VERSION:2.0
PRODID:-//ChamberMaster//Event Calendar 2.0//EN
METHOD:PUBLISH
X-PUBLISHED-TTL:P3D
REFRESH-INTERVAL:P3D
CALSCALE:GREGORIAN
BEGIN:VEVENT
DTSTART;VALUE=DATE:20260424
DTEND;VALUE=DATE:20260504
TRANSP:TRANSPARENT
X-MICROSOFT-CDO-ALLDAYEVENT:TRUE
SUMMARY:Documentary Film Festival at the Davis Theater
DESCRIPTION:The Doc10 Film Festival premieres 10 highly curated documentaries\, including films screened at Sundance and other major festivals\, all at the Davis Theater! Documentaries spotlight topics including immigration enforcement\, women's sports\, Girl Scout cookies\, and an attempted murder in Iran. \n\nLearn More & Get Tickets
X-ALT-DESC;FMTTYPE=text/html:<div style="text-align: center\;"><span style="color: rgb(32\, 32\, 32)\; font-family: Helvetica\; font-size: 16px\; text-align: center\;">The Doc10 Film Festival premieres 10 highly curated documentaries\, including films screened at Sundance and other major festivals\, all at the Davis Theater! Documentaries spotlight topics including immigration enforcement\, women&#39\;s sports\, Girl Scout cookies\, and an attempted murder in Iran.&nbsp\;</span><br />\n<a data-saferedirecturl="https://www.google.com/url?q=https://www.doc10.org/&amp\;source=gmail&amp\;ust=1777068356415000&amp\;usg=AOvVaw2XTGsKXYEMu050SVEXjgSg" href="https://www.doc10.org/" style="color: rgb(0\, 124\, 137)\; font-family: Helvetica\; font-size: 16px\; text-align: center\;" target="_blank">Learn More &amp\; Get Tickets</a></div>\n
LOCATION:The Davis Theater 4614 N Lincoln Ave
UID:e.1775.21858
SEQUENCE:3
DTSTAMP:20260424T022636Z
URL:https://business.northcenterchamber.com/events/details/documentary-film-festival-at-the-davis-theater-21858
END:VEVENT

END:VCALENDAR
