BEGIN:VCALENDAR
VERSION:2.0
PRODID:-//ChamberMaster//Event Calendar 2.0//EN
METHOD:PUBLISH
X-PUBLISHED-TTL:P3D
REFRESH-INTERVAL:P3D
CALSCALE:GREGORIAN
BEGIN:VEVENT
DTSTART:20210930T230000Z
DTEND:20211001T010000Z
X-MICROSOFT-CDO-ALLDAYEVENT:FALSE
SUMMARY:Elternabend - Parent Night Out!
DESCRIPTION:Need a night out\, but don't know what to do with the kids? DANK has you covered!\n\n \n\nJoin us on Thursday\, September 30th from 6-8 pm for a parent night out. We will provide childcare at the Haus for your kids\, while you get to enjoy the view of the city from our new 6th-floor terrace. If the weather won't cooperate\, we will meet in our new Brauhaus Room to experience the old Lincoln Square vibe.\n\n \n\nRegistration package includes dinner\, two drinks\, and childcare per adult!\n\n \n\nEarly Bird registration ends September 16th.\n\n \n\nChoose from the following options:\n\n-Package for 4 (two parents\, two children): $60 Early Bird\, $75 regular\n\n-Package for 2 (one parent\, one child): $30 Early Bird\, $37.50 regular\n\n-Add-on for 1 adult: $20 Early Bird\, $25 regular\n\n-Add-on for 1 child: $12 Early Bird\, $15 regular\n\nAdd $15 donation to the DANK Haus\n\n \n\nAnyone is welcome! DANK members\, neighbors\, friends - come out and join us for our very first Elternabend (parent evening)!\n\n \n\nRegister at https://dankhaus.com/event-4455046\n\n \n\nPlease Note: The Chicago Department of Public Health (CDPH) is requiring that everyone age two or older\, regardless of vaccination status\, wear masks in public indoor settings\, effective Friday\, August 20\, 2021. Masking remains optional in outdoor settings\, where the risk of COVID-19 transmission is lower\, though masks are recommended for unvaccinated individuals in crowded outdoor settings. Please be sure to wear your mask whenever you are indoors at the DANK Haus. If we work together to protect one another\, we can slow the spread of COVID-19.
X-ALT-DESC;FMTTYPE=text/html:<div>Need a night out\, but don&rsquo\;t know what to do with the kids? DANK has you covered!<br />\n&nbsp\;</div>\n\n<div>Join us on Thursday\, September 30th from 6-8 pm for a parent night out. We will provide childcare at the Haus for your kids\, while you get to enjoy the view of the city from our new 6th-floor terrace. If the weather won&rsquo\;t cooperate\, we will meet in our new Brauhaus Room to experience the old Lincoln Square vibe.<br />\n&nbsp\;</div>\n\n<div>Registration package includes dinner\, two drinks\, and childcare per adult!<br />\n&nbsp\;</div>\n\n<div>Early Bird registration ends September 16th.<br />\n&nbsp\;</div>\n\n<div>Choose from the following options:</div>\n\n<div>-Package for 4 (two parents\, two children): $60 Early Bird\, $75 regular<br />\n-Package for 2 (one parent\, one child): $30 Early Bird\, $37.50 regular<br />\n-Add-on for 1 adult: $20 Early Bird\, $25 regular<br />\n-Add-on for 1 child: $12 Early Bird\, $15 regular</div>\n\n<div>Add $15 donation to the DANK Haus<br />\n&nbsp\;</div>\n\n<div>Anyone is welcome! DANK members\, neighbors\, friends - come out and join us for our very first Elternabend (parent evening)!<br />\n&nbsp\;</div>\n\n<div>Register at&nbsp\;<a class="oajrlxb2 g5ia77u1 qu0x051f esr5mh6w e9989ue4 r7d6kgcz rq0escxv nhd2j8a9 nc684nl6 p7hjln8o kvgmc6g5 cxmmr5t8 oygrvhab hcukyx3x jb3vyjys rz4wbd8a qt6c0cv9 a8nywdso i1ao9s8h esuyzwwr f1sip0of lzcic4wl py34i1dx gpro0wi8" href="https://dankhaus.com/event-4455046?fbclid=IwAR1WMV7I_YN0jGOJM_lzsfYj6gi7yZpx6AacDRVPN4QCOvH1LcuaM9slibk" rel="nofollow noopener" style="color: var(--blue-link)\; cursor: pointer\; text-decoration-line: none\; outline: none\; list-style: none\; border-width: 0px\; border-style: initial\; border-color: initial\; padding: 0px\; margin: 0px\; touch-action: manipulation\; background-color: transparent\; text-align: inherit\; display: inline\; -webkit-tap-highlight-color: transparent\; box-sizing: border-box\; font-family: inherit\;" tabindex="0" target="_blank">https://dankhaus.com/event-4455046</a><br />\n&nbsp\;</div>\n\n<div>Please Note: The Chicago Department of Public Health (CDPH) is requiring that everyone age two or older\, regardless of vaccination status\, wear masks in public indoor settings\, effective Friday\, August 20\, 2021. Masking remains optional in outdoor settings\, where the risk of COVID-19 transmission is lower\, though masks are recommended for unvaccinated individuals in crowded outdoor settings. Please be sure to wear your mask whenever you are indoors at the DANK Haus. If we work together to protect one another\, we can slow the spread of COVID-19.</div>\n
LOCATION:DANK Haus German American Cultural Center 4740 N. Western Ave ?Chicago\, IL 60625
UID:e.1775.16349
SEQUENCE:3
DTSTAMP:20260421T011501Z
URL:https://business.northcenterchamber.com/events/details/elternabend-parent-night-out-16349
END:VEVENT

END:VCALENDAR
