BEGIN:VCALENDAR
VERSION:2.0
PRODID:-//ChamberMaster//Event Calendar 2.0//EN
METHOD:PUBLISH
X-PUBLISHED-TTL:P3D
REFRESH-INTERVAL:P3D
CALSCALE:GREGORIAN
BEGIN:VEVENT
DTSTART:20220331T230000Z
DTEND:20220401T010000Z
X-MICROSOFT-CDO-ALLDAYEVENT:FALSE
SUMMARY:Elternabend: Parent's Night Out
DESCRIPTION:Need a night out\, but don't know what to do with the kids? DANK has you covered!\n\nJoin us on Thursday\, March 31 from 6-8 pm for a parent's night out. We will provide childcare and fun\, enriching activities at the Haus for your kids\, while you get to enjoy drinks\, dinner\, and the view of the city from our 6th Floor Skyline Lounge.\n\nRegistration includes dinner\, two drinks\, and childcare per adult! Children will also receive a meal and juice or water.\n\nCost\n\nWe are pleased to offer a discounted rate for Friends of the DANK Haus (What's this?)\n\nAdults (Friends of DANK Haus): $30\n\nChildren (Friends of DANK Haus): $15\n\nAdults (General): $35\n\nChildren (General): $20\n\nNote: Childcare is available for children ages 3 and up.\n\nAnyone is welcome! DANK members\, neighbors\, friends - come out and join us for our very first Elternabend (parent evening)! \n\nSave the date for our next Elternabend: May 19th\, 2022
X-ALT-DESC;FMTTYPE=text/html:<p>Need a night out\, but don&rsquo\;t know what to do with the kids? DANK has you covered!</p>\n\n<p>Join us on&nbsp\;<strong>Thursday\, March 31</strong>&nbsp\;from 6-8 pm for a parent&#39\;s night out. We will provide childcare and fun\, enriching activities at the Haus for your kids\, while you get to enjoy drinks\, dinner\, and the view of the city from our 6th Floor Skyline Lounge.</p>\n\n<p>Registration includes dinner\, two drinks\, and childcare per adult! Children will also receive a meal and juice or water.</p>\n\n<p><strong>Cost</strong><br />\n<em>We are pleased to offer a discounted rate for Friends of the DANK Haus (<a href="https://dankhaus.com/Join" style="color: rgb(255\, 204\, 0)\;" target="_blank">What&#39\;s this?</a>)</em></p>\n\n<p>Adults (Friends of DANK Haus): $30<br />\nChildren (Friends of DANK Haus): $15</p>\n\n<p>Adults (General): $35<br />\nChildren (General): $20</p>\n\n<p><strong>Note</strong>: Childcare is available for children ages 3 and up.</p>\n\n<p>Anyone is welcome! DANK members\, neighbors\, friends - come out and join us for our very first Elternabend (parent evening)!&nbsp\;</p>\n\n<p><strong>Save the date for our next Elternabend</strong>: May 19th\, 2022</p>\n
LOCATION:4740 North Western Ave. Chicago\, IL 60625
UID:e.1775.16852
SEQUENCE:3
DTSTAMP:20260420T134338Z
URL:https://business.northcenterchamber.com/events/details/elternabend-parent-s-night-out-16852
END:VEVENT

END:VCALENDAR
