BEGIN:VCALENDAR
VERSION:2.0
PRODID:-//ChamberMaster//Event Calendar 2.0//EN
METHOD:PUBLISH
X-PUBLISHED-TTL:P3D
REFRESH-INTERVAL:P3D
CALSCALE:GREGORIAN
BEGIN:VEVENT
DTSTART:20210421T233000Z
DTEND:20210422T003000Z
X-MICROSOFT-CDO-ALLDAYEVENT:FALSE
SUMMARY:FACT vs. FICTION: Busting Infant Motor Myths and Serving Up Facts About Your Baby's Gross Motor Development Webinar
DESCRIPTION:FACT vs. FICTION: Busting Infant Motor Myths and Serving Up Facts About Your Baby's Gross Motor Development Webinar\n\nGreat for parents & providers of children ages 0-18 months!\n\n\n\nPresented by Jessica Tarence PT\, DPT Licensed Physical Therapist\n\n\n\nWorkshop Overview:\n\n	Reduce frustrations and challenges with tummy time and improve your ability to implement and modify tummy time at home with your child as part of a daily routine.\n	Expand your knowledge of torticollis (head tilt) and plagiocephaly (head flattening) in infants and learn how to help with prevention and/or management.\n	Learn about popular baby devices/containers (jumpers/bouncers\, exersaucers\, car seats) and understand the role these play in baby's development in order to make more informed choices.\n\n **Q&A with Jessica to follow!
X-ALT-DESC;FMTTYPE=text/html:<span style="font-size:14px\;"><strong>FACT vs. FICTION: Busting Infant Motor Myths and Serving Up Facts About Your Baby&#39\;s Gross Motor Development Webinar</strong></span><br />\n<span style="font-size:14px\;">Great for parents &amp\; providers of children ages 0-18 months!<br />\n<br />\nPresented by Jessica Tarence&nbsp\;PT\, DPT Licensed Physical Therapist<br />\n<br />\nWorkshop Overview:</span>\n<ul>\n	<li><span style="font-size:14px\;">Reduce frustrations and challenges with tummy time and improve your ability to implement and modify tummy time at home with your child as part of a daily routine.</span></li>\n	<li><span style="font-size:14px\;">Expand your knowledge of torticollis (head tilt) and plagiocephaly (head flattening) in infants and learn how to help with prevention and/or management.</span></li>\n	<li><span style="font-size:14px\;">Learn about popular baby devices/containers (jumpers/bouncers\, exersaucers\, car seats) and understand the role these play in baby&rsquo\;s development in order to make more informed choices.</span></li>\n</ul>\n<span style="font-size:14px\;">&nbsp\;**Q&amp\;A with Jessica to follow!</span>\n\n<table border="0" cellpadding="0" cellspacing="0" style="border-collapse: collapse\; color: rgb(34\, 34\, 34)\; font-family: Roboto\, RobotoDraft\, Helvetica\, Arial\, sans-serif\; font-size: small\; background-color: rgb(255\, 253\, 253)\; min-width: 100%\;" width="100%">\n	<tbody>\n	</tbody>\n</table>\n\n<table border="0" cellpadding="0" cellspacing="0" style="border-collapse: collapse\; color: rgb(34\, 34\, 34)\; font-family: Roboto\, RobotoDraft\, Helvetica\, Arial\, sans-serif\; font-size: small\; background-color: rgb(255\, 253\, 253)\; min-width: 100%\;" width="100%">\n	<tbody>\n	</tbody>\n</table>\n
LOCATION:Virtual Webinar
UID:e.1775.16112
SEQUENCE:3
DTSTAMP:20260423T083605Z
URL:https://business.northcenterchamber.com/events/details/fact-vs-fiction-busting-infant-motor-myths-and-serving-up-facts-about-your-baby-s-gross-motor-development-webinar-16112
END:VEVENT

END:VCALENDAR
