BEGIN:VCALENDAR
VERSION:2.0
PRODID:-//ChamberMaster//Event Calendar 2.0//EN
METHOD:PUBLISH
X-PUBLISHED-TTL:P3D
REFRESH-INTERVAL:P3D
CALSCALE:GREGORIAN
BEGIN:VEVENT
DTSTART:20210616T170000Z
DTEND:20210616T180000Z
X-MICROSOFT-CDO-ALLDAYEVENT:FALSE
SUMMARY:Financial Management for Small Businesses: A Wintrust Webinar Series
DESCRIPTION:Business owners\, please save the date for a free virtual presentation from your local Wintrust Bank North Center. \n\n\n\nThe newly updated Money Smart for Adults curriculum provides participants with practical knowledge\, skill-building opportunities\, and resources they can use to manage their finances with confidence. Your Wintrust instructors are certified to use the curriculum to deliver unbiased\, relevant\, and accurate financial education.
X-ALT-DESC;FMTTYPE=text/html:Business owners\, please save the date for a free virtual presentation from your local Wintrust Bank North Center.&nbsp\;<br />\n<br />\nThe newly updated Money Smart for Adults curriculum provides participants with practical knowledge\, skill-building opportunities\, and resources they can use to manage their finances with confidence. Your Wintrust instructors are certified to use the curriculum to deliver unbiased\, relevant\, and accurate financial education.
LOCATION:Click here to join the meeting!
UID:e.1775.16282
SEQUENCE:3
DTSTAMP:20260421T045046Z
URL:https://business.northcenterchamber.com/events/details/financial-management-for-small-businesses-a-wintrust-webinar-series-16282
END:VEVENT

END:VCALENDAR
