BEGIN:VCALENDAR
VERSION:2.0
PRODID:-//ChamberMaster//Event Calendar 2.0//EN
METHOD:PUBLISH
X-PUBLISHED-TTL:P3D
REFRESH-INTERVAL:P3D
CALSCALE:GREGORIAN
BEGIN:VEVENT
DTSTART;VALUE=DATE:20220406
DTEND;VALUE=DATE:20220407
TRANSP:TRANSPARENT
X-MICROSOFT-CDO-ALLDAYEVENT:TRUE
SUMMARY:First Wednesday Food Drive
DESCRIPTION:It's really easy to donate both food and other needed items. You may drop off your donations on the front porch of one of the following addresses between now and end of day. \n\n\n	Sally Smith-3929 N. Seeley Ave\n	Mia Furlong-2024 W. Bradley\n	Susan Reed-2104 W. Bradley Place\n	Kevin Sullivan-1915 W. Berenice\n	Mary Sajdak-3811 N. Lincoln #3C (Bin in gangway)\n	Ken Catalanotte-2456 W. Pensacola\n	Jenny Stanton-3655 N. Artesian\n	Polonsky Family-2440 W. Hutchinson\n	New Porch Sherry Skalko-4204 N. Damen\n\n\nWe will arrange to bring these items to Common Pantry. Visit our webpage for all of the details.\n\nThank you again for your generosity during this unprecedented time. Compassion In Action Committee & Northcenter Neighborhood Association
X-ALT-DESC;FMTTYPE=text/html:<div style="font-family: Arial\, Helvetica\, sans-serif\; font-size: 16px\; line-height: 1\;">\n<p style="line-height: 22px\;"><span style="font-size:16px\;">It&rsquo\;s<a href="https://www.northcenterneighborhood.org/First-Wednesday-Food-Drive">&nbsp\;</a><a data-saferedirecturl="https://www.google.com/url?q=https://www.northcenterneighborhood.org/EmailTracker/LinkTracker.ashx?linkAndRecipientCode%3DusnDsUeiCTMRxIMFKrDlqUt1CdUeN0MYqgHOLeUBf0nT6JqxJM76kwfz58yiyE0Rs8sm23dnkL6kavLMUsJvbz1g8UYEz3MaZHbkZQQHq8Q%253d&amp\;source=gmail&amp\;ust=1646848271605000&amp\;usg=AOvVaw1XlrRyTT8E8efo_DGxBSzh" href="https://www.northcenterneighborhood.org/EmailTracker/LinkTracker.ashx?linkAndRecipientCode=usnDsUeiCTMRxIMFKrDlqUt1CdUeN0MYqgHOLeUBf0nT6JqxJM76kwfz58yiyE0Rs8sm23dnkL6kavLMUsJvbz1g8UYEz3MaZHbkZQQHq8Q%3d" style="color: rgb(17\, 85\, 204)\;" target="_blank">really easy to donate</a><a href="https://www.northcenterneighborhood.org/First-Wednesday-Food-Drive">&nbsp\;</a>both food and other needed items. You may drop off your donations on the front porch of one of the following addresses between now and end of day.<strong>&nbsp\;</strong></span></p>\n\n<ul style="line-height: 22px\;">\n	<li style="margin-left: 15px\;"><span style="font-size:16px\;">Sally Smith-3929 N. Seeley Ave</span></li>\n	<li style="margin-left: 15px\;"><span style="font-size:16px\;">Mia Furlong-2024 W. Bradley</span></li>\n	<li style="margin-left: 15px\;"><span style="font-size:16px\;">Susan Reed-2104 W. Bradley Place</span></li>\n	<li style="margin-left: 15px\;"><span style="font-size:16px\;">Kevin Sullivan-1915 W. Berenice</span></li>\n	<li style="margin-left: 15px\;"><span style="font-size:16px\;">Mary Sajdak-3811 N. Lincoln #3C (Bin in gangway)</span></li>\n	<li style="margin-left: 15px\;"><span style="font-size:16px\;">Ken Catalanotte-2456 W. Pensacola</span></li>\n	<li style="margin-left: 15px\;"><span style="font-size:16px\;">Jenny Stanton-3655 N. Artesian</span></li>\n	<li style="margin-left: 15px\;"><span style="font-size:16px\;">Polonsky Family-2440 W. Hutchinson</span></li>\n	<li style="margin-left: 15px\;"><span style="font-size:16px\;"><strong>New Porch&nbsp\;</strong>Sherry Skalko-4204 N. Damen</span></li>\n</ul>\n\n<p style="line-height: 22px\;"><span style="font-size:16px\;">We will arrange to bring these items to Common Pantry.<a href="http://www.northcenterneighborhood.org/First-Wednesday-Food-Drive">&nbsp\;</a><strong><a data-saferedirecturl="https://www.google.com/url?q=https://www.northcenterneighborhood.org/EmailTracker/LinkTracker.ashx?linkAndRecipientCode%3DusnDsUeiCTMRxIMFKrDlqUt1CdUeN0MYqgHOLeUBf0nT6JqxJM76kwfz58yiyE0Rs8sm23dnkL6kavLMUsJvbz1g8UYEz3MaZHbkZQQHq8Q%253d&amp\;source=gmail&amp\;ust=1646848271605000&amp\;usg=AOvVaw1XlrRyTT8E8efo_DGxBSzh" href="https://www.northcenterneighborhood.org/EmailTracker/LinkTracker.ashx?linkAndRecipientCode=usnDsUeiCTMRxIMFKrDlqUt1CdUeN0MYqgHOLeUBf0nT6JqxJM76kwfz58yiyE0Rs8sm23dnkL6kavLMUsJvbz1g8UYEz3MaZHbkZQQHq8Q%3d" style="color: rgb(17\, 85\, 204)\;" target="_blank">Visit our webpage</a></strong>&nbsp\;for all of the details.</span></p>\n\n<p style="line-height: 22px\;"><span style="font-size:16px\;"><strong>Thank you again for your generosity during this unprecedented time.</strong>&nbsp\;Compassion In Action Committee &amp\; Northcenter Neighborhood Association</span></p>\n</div>\n\n<div style="font-family: Arial\, Helvetica\, sans-serif\; font-size: 16px\; line-height: 1\;">&nbsp\;</div>\n\n<p style="border-top: 2px solid rgb(189\, 189\, 189)\; margin: 0px auto\; width: 560px\;">&nbsp\;</p>\n
LOCATION:It's really easy to donate both food and other needed items. You may drop off your donations on the front porch of one of the following addresses between now and end of day\, Wednesday\, April 6th: Sally Smith-3929 N. Seeley Ave Mia Furlong-2024 W. Bradley Susan Reed-2104 W. Bradley Place Kevin Sullivan-1915 W. Berenice Mary Sajdak-3811 N. Lincoln #3C (Bin in gangway) Ken Catalanotte-2456 W. Pensacola Jenny Stanton-3655 N. Artesian Polonsky Family-2440 W. Hutchinson New Porch Sherry Skalko-4204 N. Damen
UID:e.1775.16835
SEQUENCE:3
DTSTAMP:20260420T134528Z
URL:https://business.northcenterchamber.com/events/details/first-wednesday-food-drive-16835
END:VEVENT

END:VCALENDAR
