BEGIN:VCALENDAR
VERSION:2.0
PRODID:-//ChamberMaster//Event Calendar 2.0//EN
METHOD:PUBLISH
X-PUBLISHED-TTL:P3D
REFRESH-INTERVAL:P3D
CALSCALE:GREGORIAN
BEGIN:VEVENT
DTSTART:20210513T230000Z
DTEND:20210514T010000Z
X-MICROSOFT-CDO-ALLDAYEVENT:FALSE
SUMMARY:Forward Chicago Dinner Club
DESCRIPTION:You said you wanted to get together for dinner with your neighbors.... now here's your chance.\n\n\n\nJoin us as we explore BYOB restaurants and be sure to bring a friend.\n\n\n\nPrice is $25 - $35 with tax and tip.\n\n\n\nPlease RSVP to 773-633-8312 or info@forwardchicago.org
X-ALT-DESC;FMTTYPE=text/html:You said you wanted to get together for dinner with your neighbors.... now here&#39\;s your chance.<br />\n<br />\nJoin us as we explore BYOB restaurants and be sure to bring a friend.<br />\n<br />\nPrice is $25 - $35 with tax and tip.<br />\n<br />\nPlease RSVP to 773-633-8312 or info@forwardchicago.org
LOCATION:Cafe Orchid 1746 W Addison
UID:e.1775.404
SEQUENCE:3
DTSTAMP:20260421T064817Z
URL:https://business.northcenterchamber.com/events/details/forward-chicago-dinner-club-05-13-2021-404
END:VEVENT

END:VCALENDAR
