BEGIN:VCALENDAR
VERSION:2.0
PRODID:-//ChamberMaster//Event Calendar 2.0//EN
METHOD:PUBLISH
X-PUBLISHED-TTL:P3D
REFRESH-INTERVAL:P3D
CALSCALE:GREGORIAN
BEGIN:VEVENT
DTSTART:20211208T233000Z
DTEND:20211209T010000Z
X-MICROSOFT-CDO-ALLDAYEVENT:FALSE
SUMMARY:Free Business Networking at New Day
DESCRIPTION:Join New Day and Jennifer O'Grady for a Happy Hour with great conversations and refreshments!
X-ALT-DESC;FMTTYPE=text/html:<span style="color: rgb(32\, 32\, 32)\; font-family: Helvetica\; font-size: 16px\;">Join&nbsp\;</span><a data-saferedirecturl="https://www.google.com/url?q=http://newdaynsa.com/&amp\;source=gmail&amp\;ust=1638300833660000&amp\;usg=AOvVaw2EKbFBP_pglx7ERdAcNhek" href="http://newdaynsa.com/" style="color: rgb(0\, 124\, 137)\; font-family: Helvetica\; font-size: 16px\;" target="_blank">New Day</a><span style="color: rgb(32\, 32\, 32)\; font-family: Helvetica\; font-size: 16px\;">&nbsp\;and Jennifer O&#39\;Grady for a Happy Hour with great conversations and refreshments!</span>
LOCATION:4308 N. Lincoln Ave.
UID:e.1775.16373
SEQUENCE:3
DTSTAMP:20260420T183701Z
URL:https://business.northcenterchamber.com/events/details/free-business-networking-at-new-day-16373
END:VEVENT

END:VCALENDAR
