BEGIN:VCALENDAR
VERSION:2.0
PRODID:-//ChamberMaster//Event Calendar 2.0//EN
METHOD:PUBLISH
X-PUBLISHED-TTL:P3D
REFRESH-INTERVAL:P3D
CALSCALE:GREGORIAN
BEGIN:VEVENT
DTSTART:20220119T233000Z
DTEND:20220120T010000Z
X-MICROSOFT-CDO-ALLDAYEVENT:FALSE
SUMMARY:Free Business Networking Happy Hour
DESCRIPTION:Please join us for our first event of the year! Get a little networking in\, have some fun\, and plant a few seeds for your business to start 2022 Please join us as we return to co-hosting our popular Free Business Networking Happy Hour on Wednesday\, January 19th from 5:30pm-7:00pm. This month we are co-hosting with Amrita Singh. Amrita is a stellar travel agent who created Beyond Travel in River North. We're proud to sponsor Mission Compassion Paw (MCP) this month\, a nonprofit dog rescue and humanitarian organization that uses the international language of art to imprint compassion for animals into urban youth culture. Please RSVP through our FB event if you can (this helps us plan)\, and invite a friend! https://fb.me/e/14zPp4sME Refreshments and light snacks will be provided. If you are able\, please bring a bottle of wine to share Note-- there will be a limit on the number of networking enthusiasts allowed in the space\, due to covid related restrictions. Arriving on time will help ensure that you will be able to network with us. And please bring a mask
X-ALT-DESC;FMTTYPE=text/html:Please join us for our first event of the year! Get a little networking in\, have some fun\, and plant a few seeds for your business to start 2022 Please join us as we return to co-hosting our popular Free Business Networking Happy Hour on Wednesday\, January 19th from 5:30pm-7:00pm. This month we are co-hosting with Amrita Singh. Amrita is a stellar travel agent who created Beyond Travel in River North. We&#39\;re proud to sponsor Mission Compassion Paw (MCP) this month\, a nonprofit dog rescue and humanitarian organization that uses the international language of art to imprint compassion for animals into urban youth culture. Please RSVP through our FB event if you can (this helps us plan)\, and invite a friend! https://fb.me/e/14zPp4sME Refreshments and light snacks will be provided. If you are able\, please bring a bottle of wine to share Note-- there will be a limit on the number of networking enthusiasts allowed in the space\, due to covid related restrictions. Arriving on time will help ensure that you will be able to network with us. And please bring a mask
LOCATION:New Day Network Wellness Center 4308 N. Lincoln Avenue Chicago\, IL 60618
UID:e.1775.16384
SEQUENCE:3
DTSTAMP:20260420T171729Z
URL:https://business.northcenterchamber.com/events/details/free-business-networking-happy-hour-01-19-2022-16384
END:VEVENT

END:VCALENDAR
