BEGIN:VCALENDAR
VERSION:2.0
PRODID:-//ChamberMaster//Event Calendar 2.0//EN
METHOD:PUBLISH
X-PUBLISHED-TTL:P3D
REFRESH-INTERVAL:P3D
CALSCALE:GREGORIAN
BEGIN:VEVENT
DTSTART:20210616T223000Z
DTEND:20210617T000000Z
X-MICROSOFT-CDO-ALLDAYEVENT:FALSE
SUMMARY:Free Business Networking Happy Hour-- IN PERSON!
DESCRIPTION:Calling all networking enthusiasts!!\n\n\n\nIt fills us with excitement and gratitude to announce that we will be LIVE AND IN PERSON NEXT WEEK for the first time in a year and a half!\n\n\n\nPlease join us as we return to co-hosting our popular Free Business Networking Happy Hour\, this time with the wonderful Dana Magnus of the MKTG Brand.\n\n\n\nIf you're ready to be out in public\, and have been itching to socialize\, we can relate!  Now\, it is finally time!\n\n\n\nPlease note that there is a slight shift in the time of the event\, compared to events past.  We will start at 5:30PM and go until 7PM.\n\n\n\nPlease RSVP through the event on Facebook in order to help us plan (and to get the word out to the right people??)\n\n\n\nOur featured non-profit this month is Humble Design.\n\n\n\nHumble Design serves individuals\, families\, and veterans emerging from homelessness by transforming empty houses into welcoming homes using donated furniture and household goods. Our warehouses are curated by design teams that personalize homes based on our clients' needs and preferences. More than a makeover\, it's a start over.\n\n\n\nLearn more about how you can donate or get involved at the event!\n\n\n\nPlease bring a mask! \n\n\n\nAnd also note that there will be a limit to the number of guests we can accommodate at a time due to covid-19 related restrictions.  Thank you for your understanding!
X-ALT-DESC;FMTTYPE=text/html:<strong>Calling all networking enthusiasts!!</strong><br />\n<br />\n<span style="color:rgb(96\, 96\, 96)\; font-family:helvetica\; font-size:15px">It fills us with excitement and gratitude to announce that we will be LIVE AND IN PERSON NEXT WEEK for the first time in a year and a half!</span><br />\n<br />\n<strong>Please join us as we return to co-hosting our popular Free Business Networking Happy Hour\, this time with&nbsp\;<a href="https://www.danamagnus.com/home" style="text-size-adjust: 100%\; color: rgb(38\, 171\, 226)\; font-weight: normal\;" target="_blank">the wonderful Dana Magnus&nbsp\;</a>of the MKTG Brand.</strong><br />\n<br />\n<span style="color:rgb(96\, 96\, 96)\; font-family:helvetica\; font-size:15px">If you&#39\;re ready to be out in public\, and have been itching to socialize\, we can relate!&nbsp\; Now\, it is finally time!</span><br />\n<br />\n<strong>Please note that there is a slight shift in the time of the event\, compared to events past.&nbsp\; We will start at 5:30PM and go until 7PM.</strong><br />\n<br />\n<a href="https://fb.me/e/KF9mgjaM" style="text-size-adjust: 100%\; color: rgb(38\, 171\, 226)\; font-family: Helvetica\; font-size: 15px\; text-align: center\;" target="_blank">Please RSVP through the event on Facebook</a><span style="color:rgb(96\, 96\, 96)\; font-family:helvetica\; font-size:15px">&nbsp\;in order to help us plan (and to get the word out to the right people??)</span><br />\n<br />\n<strong>Our featured non-profit this month is Humble Design.</strong><br />\n<br />\n<a href="https://www.humbledesign.org/about-1" style="text-size-adjust: 100%\; color: rgb(38\, 171\, 226)\; font-family: Helvetica\; font-size: 15px\; text-align: center\;" target="_blank">Humble Design&nbsp\;</a><span style="color:rgb(96\, 96\, 96)\; font-family:helvetica\; font-size:15px">serves individuals\, families\, and veterans emerging from homelessness by transforming empty houses into welcoming homes using donated furniture and household goods. Our warehouses are curated by design teams that personalize homes based on our clients&rsquo\; needs and preferences. More than a makeover\, it&rsquo\;s a start over.</span><br />\n<br />\n<strong>Learn more about how you can donate or get involved at the event!</strong><br />\n<br />\n<span style="color:rgb(96\, 96\, 96)\; font-family:helvetica\; font-size:15px">Please bring a mask!&nbsp\;</span><br />\n<br />\n<strong>And also note that there will be a limit to the number of guests we can accommodate at a time due to covid-19 related restrictions.&nbsp\; Thank you for your understanding!</strong><br />\n<span style="color:rgb(96\, 96\, 96)\; font-family:helvetica\; font-size:15px">&nbsp\;</span>
LOCATION:New Day-- 4308 N Lincoln Ave\, Chicago
UID:e.1775.16296
SEQUENCE:3
DTSTAMP:20260421T045045Z
URL:https://business.northcenterchamber.com/events/details/free-business-networking-happy-hour-in-person-16296
END:VEVENT

END:VCALENDAR
