BEGIN:VCALENDAR
VERSION:2.0
PRODID:-//ChamberMaster//Event Calendar 2.0//EN
METHOD:PUBLISH
X-PUBLISHED-TTL:P3D
REFRESH-INTERVAL:P3D
CALSCALE:GREGORIAN
BEGIN:VEVENT
DTSTART:20210622T160000Z
DTEND:20210622T180000Z
X-MICROSOFT-CDO-ALLDAYEVENT:FALSE
SUMMARY:FREE CEO Days- June Workshop
DESCRIPTION:I created CEO Days to empower ourselves & learn from each other's experiences\n\nIf you are like me\, I've been a CEO for years\, and working on my own oftentimes leads my forward-thinking side drownded in doubt. More about me\n\nI wanted to create this space and time to work productively\, and collaboratively with you people in my network who truly share inspiration with one another as a two-way street.\n\n \n\nComing together for just 2-hours each month is guaranteed to support all of us in generating way more ideas than we could have done on our own\, tap into new avenues of inspiration\, and discussing our largest challenges to put us back in charge of our lives and businesses with so much more ease & fun!\n\n\n\n\n\nExperience the 5 C's of CEO Days:\n\n\n	\n	? Clearing the space to get you in the right frame of mind to FOCUS\n	\n	\n	? Coming to terms with what the actions & behaviors of the past 30 days and where it has led you\n	\n	\n	? Collaborating together as a community to network & feel SUPPORTIVE while being connected to other's professional & personal experiences\n	\n	\n	? Crush your most prioritized task with a 40-minute work sprint to feel accomplished\n	\n	\n	? Create your 30-Day Intention with goals\, deadlines\, and focus\n	\n\n\n \n\nA group of CEO's from near and far will be meeting virtually on Zoom until we feel comfortable to gather together in-person around Chicago local establishments to support our neighborhood businesses.
X-ALT-DESC;FMTTYPE=text/html:&nbsp\;\n<p><strong>I created CEO Days to empower ourselves &amp\; learn from each other&rsquo\;s experiences</strong></p>\n\n<p>If you are like me\, I&rsquo\;ve been a CEO for years\, and working on my own oftentimes leads my forward-thinking side drownded in doubt. <a href="https://www.danamagnus.com/dana" style="background-color: transparent\; color: rgb(95\, 111\, 114)\; text-decoration-line: none\; padding-bottom: 0.05em\; border-bottom: 1px solid rgba(95\, 111\, 114\, 0.3)\; transition: border-color 0.15s ease-out 0s\, color 0.15s ease-out 0s\; overflow-wrap: break-word\;"><em>More about me</em></a></p>\n\n<p>I wanted to create this space and time to work productively\, and collaboratively with you people in my network who truly share inspiration with one another as a two-way street.</p>\n\n<p>&nbsp\;</p>\n\n<p>Coming together for just 2-hours each month is guaranteed to support all of us in generating way more ideas than we could have done on our own\, tap into new avenues of inspiration\, and discussing our largest challenges to put us back in charge of our lives and businesses with so much more ease &amp\; fun!</p>\n\n<p><br />\n<br />\n<strong>Experience the 5 C&rsquo\;s of CEO Days:</strong></p>\n\n<ul>\n	<li>\n	<p>? <strong>Clearing the space</strong> to get you in the right frame of mind to FOCUS</p>\n	</li>\n	<li>\n	<p>? <strong>Coming to terms</strong> with what the actions &amp\; behaviors of the past 30 days and where it has led you</p>\n	</li>\n	<li>\n	<p>? <strong>Collaborating together as a community</strong> to network &amp\; feel SUPPORTIVE while being connected to other&rsquo\;s professional &amp\; personal experiences</p>\n	</li>\n	<li>\n	<p>? <strong>Crush your most prioritized task </strong>with a 40-minute work sprint to feel accomplished</p>\n	</li>\n	<li>\n	<p>? <strong>Create your 30-Day Intention</strong> with goals\, deadlines\, and focus</p>\n	</li>\n</ul>\n\n<p>&nbsp\;</p>\n\n<p>A group of CEO&rsquo\;s from near and far will be meeting virtually on Zoom until we feel comfortable to gather together in-person around Chicago local establishments to support our neighborhood businesses.</p>\n
LOCATION:Virtual Online on Zoom
UID:e.1775.16119
SEQUENCE:3
DTSTAMP:20260421T044817Z
URL:https://business.northcenterchamber.com/events/details/free-ceo-days-may-workshop-06-15-2021-16119
END:VEVENT

END:VCALENDAR
