BEGIN:VCALENDAR
VERSION:2.0
PRODID:-//ChamberMaster//Event Calendar 2.0//EN
METHOD:PUBLISH
X-PUBLISHED-TTL:P3D
REFRESH-INTERVAL:P3D
CALSCALE:GREGORIAN
BEGIN:VEVENT
DTSTART:20200625T000000Z
DTEND:20200625T013000Z
X-MICROSOFT-CDO-ALLDAYEVENT:FALSE
SUMMARY:From Homebrew to Brewmaster: A Talk With Brent Raska of Burning Bush Brewery
DESCRIPTION:Join us Wednesday June 24 from 7:00-8:30 for a virtual discussion and tasting. We'll learn more about the back story of Burning Bush Brewery\, owner Brent Raska's transition from homebrewer to brewery owner\, a full description of the beers and what it has been like just opening in the midst of a pandemic.\n\n\n\nPick up a growler or howler of beer ahead of time and taste the beers along with us. Thanks for joining us\, cheers!\n\nRegister Here!
X-ALT-DESC;FMTTYPE=text/html:<div class="w-product-description__wrapper" data-v-3086ae4a="" data-v-b7e6b692="" data-v-fe4833fc="" style="box-sizing: inherit\;">\n<div class="w-product-description font--small font--secondary allow-white-space" data-v-fe4833fc="" style="box-sizing: inherit\; font-size: 0.875rem\; line-height: 1.5\; font-family: var(--secondary-font)\; font-weight: var(--secondary-font-weight\,400)\; margin-bottom: 16px\; white-space: pre-line\;"><br />\n<span data-v-fe4833fc="" style="box-sizing: inherit\; font-family: var(--secondary-font)\; font-weight: var(--secondary-font-weight\,400)\;">Join us Wednesday June 24 from 7:00-8:30 for a virtual discussion and tasting. We&#39\;ll learn more about the back story of Burning Bush Brewery\, owner Brent Raska&#39\;s&nbsp\;transition from homebrewer to brewery owner\, a full description of the beers and what it has been like just opening in the midst of a pandemic.<br />\n<br />\nPick up a growler or howler of beer ahead of time and taste the beers along with us. Thanks for joining us\, cheers!</span></div>\n</div>\n<strong><a href="https://my-site-103449-104296.square.site/s/order#3">Register Here!</a></strong>
LOCATION:via Zoom\, participants will receive the link the day of the event
UID:e.1775.14410
SEQUENCE:3
DTSTAMP:20260426T034124Z
URL:https://business.northcenterchamber.com/events/details/from-homebrew-to-brewmaster-a-talk-with-brent-raska-of-burning-bush-brewery-14410
END:VEVENT

END:VCALENDAR
