BEGIN:VCALENDAR
VERSION:2.0
PRODID:-//ChamberMaster//Event Calendar 2.0//EN
METHOD:PUBLISH
X-PUBLISHED-TTL:P3D
REFRESH-INTERVAL:P3D
CALSCALE:GREGORIAN
BEGIN:VEVENT
DTSTART:20200630T230000Z
DTEND:20200701T000000Z
X-MICROSOFT-CDO-ALLDAYEVENT:FALSE
SUMMARY:GERMAN BEGINNER II ONLINE CLASS - SUMMER 2020
DESCRIPTION:NEW: Learn the fundamentals of German in just 8 weeks! Sign up for this fully-online\, instructor-led\, and flexible class to fit your schedule.\n\nClass Description\n\nLearn basic German sentences and language structure in individual as well as group activities in just 8 weeks! This class is fully online online and meets on twice a week for an hour  for video meetings with your instructor (and classmates). You will have the flexibility to work on your assignments where and when you can\, and the opportunity to interact with a German speaking instructor when you need it! The included course materials include listening exercises you can play from your phone.  This class covers CEFR A1.2.\n\nClass Structure: Students will have the opportunity to talk to their teacher and their classmates in two 60 minute zoom sessions and practice their German in break-out rooms. Zoom Session will take place Tuesdays from 6-7PM and Fridays from 2PM-3PM. In addition\, students will receive assignments from their teacher via google classroom. \n\nPrerequisites: Some basic knowledge of German? This is the right class for you. This class is tailored to students who were enrolled in Elementary I the past semester (or the equivalent of CEFR level A1.1).\n\nMinimum Enrollment: 6 Students   \n\nOrder your Materials Today:  \nText and Workbook:  Linie 1 A1.2 Combined Half Edition
X-ALT-DESC;FMTTYPE=text/html:<p><strong><em>NEW: Learn the fundamentals of German in just 8 weeks! Sign up for this fully-online\, instructor-led\, and flexible class to fit your schedule.</em></strong></p>\n\n<p><strong>Class Description</strong></p>\n\n<p>Learn basic German sentences and language structure in individual as well as group activities in just 8 weeks! This class is fully online online and meets on&nbsp\;twice a week for an hour&nbsp\;&nbsp\;for&nbsp\;<span style="background-color:transparent">video meetings with your instructor (and classmates</span><span style="background-color:transparent">). You will have the&nbsp\;flexibility to work on your assignments where and when you can\, and the opportunity to interact with a German speaking instructor when you need it!&nbsp\;The included course materials include</span><span style="background-color:transparent">&nbsp\;listening exercises you can play from your phone.&nbsp\;</span>&nbsp\;<span style="background-color:transparent">This class covers CEFR A1.2.</span></p>\n\n<p><span style="background-color:transparent"><strong>Class Structure:&nbsp\;</strong>Students will have the opportunity to talk to their teacher and their classmates in two 60 minute zoom sessions and practice their German in break-out rooms.&nbsp\;Zoom Session will take place Tuesdays from 6-7PM and Fridays from 2PM-3PM.&nbsp\;In addition\, students will receive assignments from their teacher via google classroom.&nbsp\;</span></p>\n\n<p><strong>Prerequisites</strong>: Some basic knowledge of German? This is the right class for you.&nbsp\;This class is tailored to students who were enrolled in Elementary I the past semester (or&nbsp\;the equivalent of CEFR level A1.1).</p>\n\n<p><strong>Minimum Enrollment</strong>: 6 Students&nbsp\; &nbsp\;</p>\n\n<p><strong>Order your Materials Today:&nbsp\;</strong>&nbsp\;</p>\nText and Workbook:&nbsp\;<a href="https://www.klett-usa.com/linie-1-a1-2-combined-half-edition/t-1/9783126070539" style="color: rgb(54\, 175\, 240)\; font-size: 16px\; background-color: transparent\; font-family: &quot\;Roboto Condensed&quot\;\;" target="_blank">&nbsp\;Linie 1 A1.2 Combined Half Edition</a>
LOCATION:Virtual
UID:e.1775.14354
SEQUENCE:3
DTSTAMP:20260426T032536Z
URL:https://business.northcenterchamber.com/events/details/german-beginner-ii-online-class-summer-2020-06-30-2020-14354
END:VEVENT

END:VCALENDAR
