BEGIN:VCALENDAR
VERSION:2.0
PRODID:-//ChamberMaster//Event Calendar 2.0//EN
METHOD:PUBLISH
X-PUBLISHED-TTL:P3D
REFRESH-INTERVAL:P3D
CALSCALE:GREGORIAN
BEGIN:VEVENT
DTSTART:20200604T233000Z
DTEND:20200605T010000Z
X-MICROSOFT-CDO-ALLDAYEVENT:FALSE
SUMMARY:GERMAN GRAMMAR REVIEW I - SUMMER 2020
DESCRIPTION:Class Description: Intensive Grammar Review I is designed to provide additional opportunities for practicing grammar structures introduced in Elementary German I through IV. Topics include but are not limited to: verb forms and verb tenses\, declination of nouns\, pronouns and articles in different cases\, and prepositions. \nClass Structure: \n\nStudents will have the opportunity to talk to their teacher and their classmates in 90 minute zoom sessions and practice their German in break-out rooms. In addition\, students will receive assignments from their teacher via google classroom. \n\nPrerequisites: This class is tailored to students who are currently enrolled in Elementary II to Elementary IV (or the equivalent of CEFR level A1-A2). \nMinimum Enrollment: 6 Students   \n\n***Payment must be received within 15 minutes of registration to avoid cancelling your enrollment. Please contact Danica Polanski with any questions.
X-ALT-DESC;FMTTYPE=text/html:<p><em><strong>Class Description:&nbsp\;</strong>Intensive Grammar Review I</em>&nbsp\;is designed to provide additional opportunities for practicing grammar structures introduced in Elementary German I through IV. Topics include but are not limited to: verb forms and verb tenses\, declination of nouns\, pronouns and articles in different cases\, and prepositions.&nbsp\;</p>\n<strong>Class Structure:&nbsp\;</strong>\n\n<p>Students will have the opportunity to talk to their teacher and their classmates in 90 minute zoom sessions and practice their German in break-out rooms. In addition\, students will receive assignments from their teacher via google classroom.&nbsp\;</p>\n\n<p><strong>Prerequisites</strong>:&nbsp\;This class is tailored to students who are currently enrolled in Elementary II to Elementary IV (or the equivalent of CEFR level A1-A2).&nbsp\;</p>\n<strong>Minimum Enrollment</strong>: 6 Students&nbsp\; &nbsp\;\n\n<p><strong>***Payment</strong>&nbsp\;must be received within 15 minutes of registration to avoid cancelling your enrollment. Please contact&nbsp\;<a href="mailto:danica@dankhaus.com" style="color: rgb(54\, 175\, 240)\;">Danica Polanski</a>&nbsp\;with any questions.</p>\n
LOCATION:Virtual
UID:e.1775.14326
SEQUENCE:3
DTSTAMP:20260426T032553Z
URL:https://business.northcenterchamber.com/events/details/german-grammar-review-i-summer-2020-14326
END:VEVENT

END:VCALENDAR
