BEGIN:VCALENDAR
VERSION:2.0
PRODID:-//ChamberMaster//Event Calendar 2.0//EN
METHOD:PUBLISH
X-PUBLISHED-TTL:P3D
REFRESH-INTERVAL:P3D
CALSCALE:GREGORIAN
BEGIN:VEVENT
DTSTART:20200618T233000Z
DTEND:20200619T010000Z
X-MICROSOFT-CDO-ALLDAYEVENT:FALSE
SUMMARY:GERMAN GRAMMAR REVIEW II - SUMMER 2020
DESCRIPTION:Class Description: Intensive Grammar Review II is designed to provide additional opportunities for practicing grammar structures introduced in Elementary German I through IV. Topics include but are not limited to: verb positions\, conjunctives\, passives\, verb tenses\, modal verbs and inseparable verbs. \nClass Structure: \n\nStudents will have the opportunity to talk to their teacher and their classmates in 90 minute zoom sessions and practice their German in break-out rooms. In addition\, students will receive assignments from their teacher via google classroom.\n\nZoom Meeting Times: Thursdays 6:30PM - 8PM\n\nPrerequisites: This class is tailored to students who are currently enrolled in Intermediate I to Proficient II (or the equivalent of CEFR level A1-A2). \nMinimum Enrollment: 6 Students \n\n \n\n***Payment must be received within 15 minutes of registration to avoid cancelling your enrollment. Please contact Danica Polanski with any questions.
X-ALT-DESC;FMTTYPE=text/html:<p><strong>Class Description:<em>&nbsp\;</em></strong><em>Intensive Grammar Review II</em>&nbsp\;is designed to provide additional opportunities for practicing grammar structures introduced in Elementary German I through IV. Topics include but are not limited to: verb positions\, conjunctives\, passives\, verb tenses\, modal verbs and inseparable verbs.&nbsp\;</p>\n<strong>Class Structure:&nbsp\;</strong>\n\n<p>Students will have the opportunity to talk to their teacher and their classmates in 90 minute zoom sessions and practice their German in break-out rooms. In addition\, students will receive assignments from their teacher via google classroom.</p>\n\n<p><strong>Zoom Meeting Times:</strong>&nbsp\;Thursdays 6:30PM - 8PM</p>\n\n<p><strong>Prerequisites</strong>:&nbsp\;This class is tailored to students who are currently enrolled in Intermediate I to Proficient II (or the equivalent of CEFR level A1-A2).&nbsp\;</p>\n<strong>Minimum Enrollment</strong><span style="font-family:pt sans\; font-size:16px">: 6 Students&nbsp\;</span>\n\n<p>&nbsp\;</p>\n\n<p><strong>***Payment</strong>&nbsp\;must be received within 15 minutes of registration to avoid cancelling your enrollment. Please contact&nbsp\;<a href="mailto:danica@dankhaus.com" style="color: rgb(54\, 175\, 240)\;">Danica Polanski</a>&nbsp\;with any questions.</p>\n
LOCATION:Virtual6/
UID:e.1775.14401
SEQUENCE:3
DTSTAMP:20260426T034010Z
URL:https://business.northcenterchamber.com/events/details/german-grammar-review-ii-summer-2020-06-18-2020-14401
END:VEVENT

END:VCALENDAR
