BEGIN:VCALENDAR
VERSION:2.0
PRODID:-//ChamberMaster//Event Calendar 2.0//EN
METHOD:PUBLISH
X-PUBLISHED-TTL:P3D
REFRESH-INTERVAL:P3D
CALSCALE:GREGORIAN
BEGIN:VEVENT
DTSTART:20200701T233000Z
DTEND:20200702T010000Z
X-MICROSOFT-CDO-ALLDAYEVENT:FALSE
SUMMARY:GERMAN PROFICIENT ONLINE CLASS - SUMMER 2020
DESCRIPTION:Class Description: This Proficient Conversational Review Class provides students with structured opportunities to practice speaking German in complex situation and settings and to reinforce grammar and vocabulary that they have already learned. The goal is for students to obtain more confidence in speaking while focusing on grammar structures. \n\nClass Structure: Students will have the opportunity to talk to their teacher and their classmates in 90 minute zoom sessions and practice their German in break-out rooms. In addition\, students will receive assignments from their teacher via google classroom.\n\nPrerequisites: This class is tailored to students who are currently enrolled in Proficient I or Proficient II (or the equivalent of CEFR level B1+).  This class reviews vocabulary and grammar to practice language in a variety of conversational settings. Please take our placement test to see if this class is right for you.\n\nMinimum Enrollment: 6 Students   \n\n**** Payment must be received within 15 minutes of registration to avoid cancelling your enrollment. Please contact Danica Polanski with any questions.
X-ALT-DESC;FMTTYPE=text/html:<p><strong>Class Description:&nbsp\;</strong>This Proficient&nbsp\;<em>Conversational Review Class</em>&nbsp\;provides students with structured opportunities to practice speaking German in complex situation and settings and to reinforce grammar and vocabulary that they have already learned. The goal is for students to obtain more confidence in speaking while focusing on grammar structures.&nbsp\;</p>\n\n<p><strong>Class Structure:&nbsp\;</strong>Students will have the opportunity to talk to their teacher and their classmates in 90 minute zoom sessions and practice their German in break-out rooms. In addition\, students will receive assignments from their teacher via google classroom.</p>\n\n<p><strong>Prerequisites</strong>:&nbsp\;This class is tailored to students who are currently enrolled in Proficient I or Proficient II (or the equivalent of CEFR level B1+).&nbsp\;&nbsp\;This class reviews vocabulary and grammar to practice language in a variety of conversational settings. Please take&nbsp\;<a href="http://einstufungstests.klett-sprachen.de/einstufung/index.php?questname=linie1&amp\;questclass=B2" style="color: rgb(54\, 175\, 240)\;" target="_blank">our placement test</a>&nbsp\;to see if this class is right for you.</p>\n\n<p><strong>Minimum Enrollment</strong>: 6 Students&nbsp\; &nbsp\;</p>\n\n<p><strong><strong>*</strong><strong>*</strong><strong>*</strong><strong>*&nbsp\;</strong></strong>Payment must be received within 15 minutes of registration to avoid cancelling your enrollment. Please contact&nbsp\;<a href="mailto:danica@dankhaus.com" style="color: rgb(54\, 175\, 240)\;">Danica Polanski</a>&nbsp\;with any questions.</p>\n
LOCATION:Virtual
UID:e.1775.14389
SEQUENCE:3
DTSTAMP:20260426T001026Z
URL:https://business.northcenterchamber.com/events/details/german-proficient-online-class-summer-2020-07-01-2020-14389
END:VEVENT

END:VCALENDAR
