BEGIN:VCALENDAR
VERSION:2.0
PRODID:-//ChamberMaster//Event Calendar 2.0//EN
METHOD:PUBLISH
X-PUBLISHED-TTL:P3D
REFRESH-INTERVAL:P3D
CALSCALE:GREGORIAN
BEGIN:VEVENT
DTSTART:20210119T000000Z
DTEND:20210119T011500Z
X-MICROSOFT-CDO-ALLDAYEVENT:FALSE
SUMMARY:Get With the Times: German Newspaper Research
DESCRIPTION:Genealogist Teresa McMillin joins us again\, this time for an evening genealogy lecture called "Get With the Times: German Newspaper Research." Germany does not have large subscription-based websites for accessing newspapers for genealogical research. Despite that fact\, thousands of digitized German newspapers are available online. Many of them are free. Learn where they are and how to access them.\n\n \n\nIn this virtual event\, Teresa will give lots of practical advice  and we will have time at the end for your questions\, answered live!\n\n \n\nIMPORTANT: You will receive an email with the Zoom login the day before the event (or right before the event\, for same-day registrants). You will receive a confirmation email from the DANKHaus.com upon registering online\, but this is not needed to join the Zoom meeting room.\n\n \n\nThis event costs $10\, and additional donations go directly toward the DANK Haus's museum\, library\, gallery and genealogy center. If you have limited funds\, please email us to get free or discounted registration.\n\n \n\nRegister here:\n\nhttps://dankhaus.com/event-4073963\n\nAny questions? Email rosa@dankhaus.com
X-ALT-DESC;FMTTYPE=text/html:<div>Genealogist Teresa McMillin joins us again\, this time for an evening genealogy lecture called &quot\;Get With the Times: German Newspaper Research.&quot\; Germany does not have large subscription-based websites for accessing newspapers for genealogical research. Despite that fact\, thousands of digitized German newspapers are available online. Many of them are free. Learn where they are and how to access them.<br />\n&nbsp\;</div>\n\n<div>In this virtual event\, Teresa will give lots of practical advice&ndash\;&ndash\;and we will have time at the end for your questions\, answered live!<br />\n&nbsp\;</div>\n\n<div>IMPORTANT: You will receive an email with the Zoom login the day before the event (or right before the event\, for same-day registrants). You will receive a confirmation email from the&nbsp\;<a class="oajrlxb2 g5ia77u1 qu0x051f esr5mh6w e9989ue4 r7d6kgcz rq0escxv nhd2j8a9 nc684nl6 p7hjln8o kvgmc6g5 cxmmr5t8 oygrvhab hcukyx3x jb3vyjys rz4wbd8a qt6c0cv9 a8nywdso i1ao9s8h esuyzwwr f1sip0of lzcic4wl py34i1dx gpro0wi8" href="https://l.facebook.com/l.php?u=http%3A%2F%2FDANKHaus.com%2F%3Ffbclid%3DIwAR1QygaKGamUNaKhPmWreT4MXIhyAAJUdht4dwln9j2GJ3q5wzyXgeGxU0s&amp\;h=AT3SgmL3SXgQjfr6F1QLRlHDKA-zcIzLgcZO_oF06PpL7dInHlztLLSUHAyGvKWwpJZMm5pj-TbZtLw-Qv0PV75Cjc6wdNGJsXJFE2ot7VtqL4sxC-8ApLhgxgX-L7Go6w&amp\;__tn__=q&amp\;c[0]=AT2tcmRs9ixwdJ--xSfv31jen1vjH3TuTPppAFxNce_T-KYnEtMyZrG9zXazgEIUl1jFk56fZulXelnoG2d3_rWe3QA55DPGlFXrydap4Kf3rBKJ5SV-uX0_r5sn_UJNLIX50chi8dJIrwfnebHn0Rg_Z4BoE0jpPYct64qYz8ozWA" rel="nofollow noopener" style="color: var(--blue-link)\; cursor: pointer\; text-decoration-line: none\; outline: none\; list-style: none\; border-width: 0px\; border-style: initial\; border-color: initial\; padding: 0px\; margin: 0px\; touch-action: manipulation\; background-color: transparent\; text-align: inherit\; display: inline\; -webkit-tap-highlight-color: transparent\; box-sizing: border-box\; font-family: inherit\;" tabindex="0" target="_blank">DANKHaus.com</a>&nbsp\;upon registering online\, but this is not needed to join the Zoom meeting room.<br />\n&nbsp\;</div>\n\n<div>This event costs $10\, and additional donations go directly toward the DANK Haus&#39\;s museum\, library\, gallery and genealogy center. If you have limited funds\, please email us to get free or discounted registration.<br />\n&nbsp\;</div>\n\n<div>Register here:<br />\n<a class="oajrlxb2 g5ia77u1 qu0x051f esr5mh6w e9989ue4 r7d6kgcz rq0escxv nhd2j8a9 nc684nl6 p7hjln8o kvgmc6g5 cxmmr5t8 oygrvhab hcukyx3x jb3vyjys rz4wbd8a qt6c0cv9 a8nywdso i1ao9s8h esuyzwwr f1sip0of lzcic4wl py34i1dx gpro0wi8" href="https://dankhaus.com/event-4073963?fbclid=IwAR3jF8xxt4aDSKEPVYd3w9i2fvp8cd3WVXelILObuxw3m7_-6LCti8lmAXM" rel="nofollow noopener" style="color: var(--blue-link)\; cursor: pointer\; text-decoration-line: none\; outline: none\; list-style: none\; border-width: 0px\; border-style: initial\; border-color: initial\; padding: 0px\; margin: 0px\; touch-action: manipulation\; background-color: transparent\; text-align: inherit\; display: inline\; -webkit-tap-highlight-color: transparent\; box-sizing: border-box\; font-family: inherit\;" tabindex="0" target="_blank">https://dankhaus.com/event-4073963</a></div>\n\n<div>Any questions? Email rosa@dankhaus.com</div>\n
LOCATION:Online via Zoom
UID:e.1775.16045
SEQUENCE:3
DTSTAMP:20260425T141100Z
URL:https://business.northcenterchamber.com/events/details/get-with-the-times-german-newspaper-research-16045
END:VEVENT

END:VCALENDAR
