BEGIN:VCALENDAR
VERSION:2.0
PRODID:-//ChamberMaster//Event Calendar 2.0//EN
METHOD:PUBLISH
X-PUBLISHED-TTL:P3D
REFRESH-INTERVAL:P3D
CALSCALE:GREGORIAN
BEGIN:VEVENT
DTSTART:20201029T230000Z
DTEND:20201030T000000Z
X-MICROSOFT-CDO-ALLDAYEVENT:FALSE
SUMMARY:Gift of Life Gala
DESCRIPTION:The National Kidney Foundation of Illinois whose mission is helping improve the health and well-being of people at risk or affected by kidney disease through prevention\, education and empowerment. The 35th annual Gift of Life Gala will take place on October 29th\, where participants virtually spend an evening with leaders in government\, medicine\, and business and help fund the NKFI mission.
X-ALT-DESC;FMTTYPE=text/html:The National Kidney Foundation of Illinois whose mission is helping improve the health and well-being of people at risk or affected by kidney disease through prevention\, education and empowerment. The 35th annual Gift of Life Gala will take place on October 29th\, where participants virtually spend an evening with leaders in government\, medicine\, and business and help fund the NKFI mission.
LOCATION:Virtually Online
UID:e.1775.16030
SEQUENCE:3
DTSTAMP:20260425T204940Z
URL:https://business.northcenterchamber.com/events/details/gift-of-life-gala-16030
END:VEVENT

END:VCALENDAR
