BEGIN:VCALENDAR
VERSION:2.0
PRODID:-//ChamberMaster//Event Calendar 2.0//EN
METHOD:PUBLISH
X-PUBLISHED-TTL:P3D
REFRESH-INTERVAL:P3D
CALSCALE:GREGORIAN
BEGIN:VEVENT
DTSTART:20220312T010000Z
DTEND:20220312T033000Z
X-MICROSOFT-CDO-ALLDAYEVENT:FALSE
SUMMARY:Gigi's Playhouse - Annual Brew HaHa
DESCRIPTION:To celebrate World Down Syndrome Day\, GiGi's Playhouse Chicago is hosting our 1st Annual BrewHaHa at Goose Island Barrel House in Chicago\, IL on Friday\, March 11th from 7-9:30PM. This will be a fun-filled adult-only night. Shenanigans will include drinks provided by Goose Island Brewery\, a buffet style dinner\, live entertainment\, and a silent auction.\n\nBe sure to get your tickets by March 1st to take advantage of Early Bird pricing. Regular priced tickets will be available until 11:59PM on March 10th.\n\nTicket Prices: \n\nExclusive Launch Ticket (purchased before February 11th): $75\n\nEarly Bird Ticket (purchased before March 1st) - Adult: $100\n\nEarly Bird Ticket- Individual with Down syndrome (purchased before March 1st): $75\n\nRegular Price Ticket - Adult: $150\n\nRegular Price Ticket - Individual with Down syndrome: $100\n\nAll questions may be directed to vvillegas@gigisplayhouse.org\n\nIf you would like to donate an item/basket to the Silent Auction\, please contact dloizzo@gigisplayhouse.org
X-ALT-DESC;FMTTYPE=text/html:<p style="box-sizing: border-box\; overflow-wrap: break-word\; margin: 0px 0px 10px\; color: rgb(128\, 128\, 128)\; font-family: &quot\;Pontano Sans&quot\;\, sans-serif\; font-size: 18px\; background-color: rgb(255\, 255\, 255)\; text-align: center\;"><span style="font-size:16px\;">To celebrate&nbsp\;World Down Syndrome Day\,&nbsp\;GiGi&#39\;s&nbsp\;Playhouse&nbsp\;Chicago&nbsp\;is hosting&nbsp\;our&nbsp\;1st&nbsp\;Annual&nbsp\;BrewHaHa&nbsp\;at&nbsp\;Goose Island Barrel House&nbsp\;in&nbsp\;Chicago\, IL&nbsp\;on Friday\, March 11th&nbsp\;from 7-9:30PM.&nbsp\;This will be a fun-filled adult-only night.&nbsp\;Shenanigans will include drinks provided by Goose Island Brewery\, a&nbsp\;buffet style&nbsp\;dinner\, live entertainment\, and a silent auction.</span></p>\n\n<p style="box-sizing: border-box\; overflow-wrap: break-word\; margin: 0px 0px 10px\; color: rgb(128\, 128\, 128)\; font-family: &quot\;Pontano Sans&quot\;\, sans-serif\; font-size: 18px\; background-color: rgb(255\, 255\, 255)\; text-align: center\;"><span style="font-size:16px\;">Be sure to&nbsp\;get&nbsp\;your tickets&nbsp\;by&nbsp\;March 1st&nbsp\;to take advantage of Early Bird pricing. Regular priced tickets will be available until 11:59PM on March 10th.</span></p>\n\n<p style="box-sizing: border-box\; overflow-wrap: break-word\; margin: 0px 0px 10px\; color: rgb(128\, 128\, 128)\; font-family: &quot\;Pontano Sans&quot\;\, sans-serif\; font-size: 18px\; background-color: rgb(255\, 255\, 255)\; text-align: center\;"><span style="font-size:16px\;"><strong style="box-sizing: border-box\;">Ticket Prices:&nbsp\;</strong></span></p>\n\n<p style="box-sizing: border-box\; overflow-wrap: break-word\; margin: 0px 0px 10px\; color: rgb(128\, 128\, 128)\; font-family: &quot\;Pontano Sans&quot\;\, sans-serif\; font-size: 18px\; background-color: rgb(255\, 255\, 255)\; text-align: center\;"><span style="font-size:16px\;">Exclusive Launch Ticket (purchased before February 11th): $75<br style="box-sizing: border-box\;" />\nEarly Bird Ticket (purchased before March 1st) - Adult: $100<br style="box-sizing: border-box\;" />\nEarly Bird Ticket- Individual with Down syndrome (purchased before March 1st): $75<br style="box-sizing: border-box\;" />\nRegular Price Ticket - Adult: $150<br style="box-sizing: border-box\;" />\nRegular Price Ticket - Individual with Down syndrome: $100</span></p>\n\n<p style="box-sizing: border-box\; overflow-wrap: break-word\; margin: 0px 0px 10px\; color: rgb(128\, 128\, 128)\; font-family: &quot\;Pontano Sans&quot\;\, sans-serif\; font-size: 18px\; background-color: rgb(255\, 255\, 255)\; text-align: center\;"><span style="font-size:16px\;">All questions may be directed to&nbsp\;<a href="mailto:vvillegas@gigisplayhouse.org" style="box-sizing: border-box\; background-color: transparent\; color: rgb(72\, 140\, 203)\; text-decoration-line: none\;">vvillegas@gigisplayhouse.org</a></span></p>\n\n<p style="box-sizing: border-box\; overflow-wrap: break-word\; margin: 0px 0px 10px\; color: rgb(128\, 128\, 128)\; font-family: &quot\;Pontano Sans&quot\;\, sans-serif\; font-size: 18px\; background-color: rgb(255\, 255\, 255)\; text-align: center\;"><span style="font-size:16px\;">If you would like to donate an item/basket to&nbsp\;the Silent&nbsp\;Auction\, please contact&nbsp\;<a href="mailto:dloizzo@gigisplayhouse.org" style="box-sizing: border-box\; background-color: transparent\; color: rgb(72\, 140\, 203)\; text-decoration-line: none\;">dloizzo@gigisplayhouse.org</a></span></p>\n
LOCATION:Goose Island Barrel House 603 N Sacramento Blvd Chicago\, IL 60612
UID:e.1775.16834
SEQUENCE:3
DTSTAMP:20260420T152656Z
URL:https://business.northcenterchamber.com/events/details/gigi-s-playhouse-annual-brew-haha-16834
END:VEVENT

END:VCALENDAR
