BEGIN:VCALENDAR
VERSION:2.0
PRODID:-//ChamberMaster//Event Calendar 2.0//EN
METHOD:PUBLISH
X-PUBLISHED-TTL:P3D
REFRESH-INTERVAL:P3D
CALSCALE:GREGORIAN
BEGIN:VEVENT
DTSTART:20201030T230000Z
DTEND:20201031T020000Z
X-MICROSOFT-CDO-ALLDAYEVENT:FALSE
SUMMARY:Hallow-SCREEN: Park 'N' View Movie Night **SOLD OUT**
DESCRIPTION:There's something strange in the neighborhood... drive on up and check it out! We've missed being able to celebrate holidays with you\, so we're putting together something spectacular for Halloween weekend\, our first ever drive-in movie! \n\n\n\nGather your family and friends and enjoy the seasonal\, spooky comedy classic Ghostbusters (1984) on two big screens\, along with concessions provided in partnership with the Davis Theater. Each party will have ample space to enjoy the movie while staying safe and maintaining social distancing. Join us on Friday\, October 30th or miss out on the most fun you'll have this Halloween weekend! \n\n\n\nA major thank-you to our generous sponsors! \n\n	Jewel-Osco\n	Erwin Law Offices\n	Leigh Marcus\, @properties\n	BrightView\n	SERVPRO of Ravenswood \n	Swedish Immediate Care\, part of NorthShore\n	The UPS Store\n	Nava Segall\, MD Pediatrics\n	Basic Wire & Cable\n	North Park Elementary School\n	Goldfish Swim School\n	Lyc e Fran ais de Chicago\n	Basil Financial Group \n	Law Offices of Anthony N. Panzica\n	DePaul College Prep\n	Heal Veterinary\n	David L. Hoyt Education Foundation\n	Luis Novo\, Edward Jones\n\nNotes:\n\n- By attending the event\, you agree to adhere to health and safety protocols. Face coverings are required when leaving your vehicle or interacting with others. \n\n- Alcohol is not permitted on-site.
X-ALT-DESC;FMTTYPE=text/html:<em><strong>There&#39\;s something strange in the neighborhood...</strong></em> drive on up and check it out! We&#39\;ve missed being able to celebrate holidays with you\, so we&#39\;re putting together something spectacular for Halloween weekend\, our first ever drive-in movie!&nbsp\;<br />\n<br />\nGather your family and friends and enjoy the seasonal\, spooky&nbsp\;comedy classic&nbsp\;<em>Ghostbusters&nbsp\;</em>(1984) on two big screens\, along with concessions provided in partnership with the Davis Theater. Each party will have ample space to enjoy the movie while staying safe and maintaining social distancing. Join us on Friday\, October 30th or miss out on the most fun you&#39\;ll have this Halloween weekend!&nbsp\;<br />\n<br />\n<em><strong>A major thank-you to our generous sponsors!&nbsp\;</strong></em>\n<ul>\n	<li><strong><a href="https://local.jewelosco.com/il/chicago/4250-n-lincoln-ave.html"><span style="color:#000000\;">Jewel-Osco</span></a></strong></li>\n	<li><strong><a href="http://erwinlawfirm.com/"><span style="color:#000000\;">Erwin Law Offices</span></a></strong></li>\n	<li><strong><a href="https://www.leighmarcus.com/"><span style="color:#000000\;">Leigh Marcus\, @properties</span></a></strong></li>\n	<li><strong><a href="https://www.brightview.com/"><span style="color:#000000\;">BrightView</span></a></strong></li>\n	<li><strong><a href="https://www.servproravenswood.com/"><span style="color:#000000\;">SERVPRO of Ravenswood&nbsp\;</span></a></strong></li>\n	<li><strong><a href="https://swedishcovenant.org/for-patients-and-visitors/medical-services/immediate-care-chicago"><span style="color:#000000\;">Swedish Immediate Care\, part of NorthShore</span></a></strong></li>\n	<li><strong><a href="https://locations.theupsstore.com/il/chicago/4044-n-lincoln-ave"><span style="color:#000000\;">The UPS Store</span></a></strong></li>\n	<li><strong><a href="https://www.luriechildrens.org/en/doctors/segall-nava-a-2229/"><span style="color:#000000\;">Nava Segall\, MD Pediatrics</span></a></strong></li>\n	<li><a href="https://www.linkedin.com/company/basic-wire-and-cable/"><strong><span style="color: rgb(0\, 0\, 0)\;">Basic Wire &amp\; Cable</span></strong></a></li>\n	<li><a href="https://www.npeschool.org/"><strong><span style="color: rgb(0\, 0\, 0)\;">North Park Elementary School</span></strong></a></li>\n	<li><strong><a href="https://www.goldfishswimschool.com/roscoe-village/"><span style="color:#000000\;">Goldfish Swim School</span></a></strong></li>\n	<li><strong><a href="https://www.lyceechicago.org/"><span style="color:#000000\;">Lyc&eacute\;e Fran&ccedil\;ais de Chicago</span></a></strong></li>\n	<li><strong><a href="https://basilfinancialgroup.com/"><span style="color:#000000\;">Basil Financial Group&nbsp\;</span></a></strong></li>\n	<li><strong><a href="https://www.facebook.com/anthonynpanzicasr/"><span style="color:#000000\;">Law Offices of Anthony N. Panzica</span></a></strong></li>\n	<li><strong><a href="https://www.depaulprep.org/"><span style="color:#000000\;">DePaul College Prep</span></a></strong></li>\n	<li><strong><a href="https://healveterinary.com/"><span style="color:#000000\;">Heal Veterinary</span></a></strong></li>\n	<li><strong><a href="https://www.davidlhoytfoundation.org/"><span style="color:#000000\;">David L. Hoyt Education Foundation</span></a></strong></li>\n	<li><strong><a href="https://www.edwardjones.com/financial-advisor/index.html?CIRN=REzRQNiBih68VCHkDbZibaVa0bkcn1vSLptR0ekWA8XziHZQvrE5Hj4vv9YugRTD"><span style="color:#000000\;">Luis Novo\, Edward Jones</span></a></strong></li>\n</ul>\n<b>Notes:</b><br />\n- By attending the event\, you agree to adhere to health and safety protocols. Face coverings are required when leaving your vehicle or interacting with others.&nbsp\;<br />\n- Alcohol is not permitted on-site.
LOCATION:Basic Wire & Cable Lot 3900 N. Rockwell
UID:e.1775.16031
SEQUENCE:3
DTSTAMP:20260425T205231Z
URL:https://business.northcenterchamber.com/events/details/hallow-screen-park-n-view-movie-night-sold-out-16031
END:VEVENT

END:VCALENDAR
