BEGIN:VCALENDAR
VERSION:2.0
PRODID:-//ChamberMaster//Event Calendar 2.0//EN
METHOD:PUBLISH
X-PUBLISHED-TTL:P3D
REFRESH-INTERVAL:P3D
CALSCALE:GREGORIAN
BEGIN:VEVENT
DTSTART:20201031T150000Z
DTEND:20201031T210000Z
X-MICROSOFT-CDO-ALLDAYEVENT:FALSE
SUMMARY:Halloween Trick or Treat in Northcenter
DESCRIPTION:From all of us here at the Northcenter Chamber of Commerce\, we wish you a safe and spooky Halloween! \n\n\n\nWhile we will not be hosting our normal event this year\, some of our local businesses will still be handing out candy on Saturday\, October 31st. Social distancing and facemasks required. Don't forget to stop by Northcenter Town Square between 7-1 to shop our last farmers market of the year!\n\nDownload the map of businesses handing out candy here! \n\n\n\nSubmit your photos for our Virtual Costume Contests by 10/31. Tag #NorthcenterHalloween2020 so we can find your photos on facebook or instagram! \n\n\n\nVote for the "Best Decorated Business" on the chamber's facebook or instagram page. Comment with your vote on the photo that's your favorite. The business with the most votes wins a prize! \n\n\n\nfacebook.com/northcenter\n\ninstagram.com/northcenter
X-ALT-DESC;FMTTYPE=text/html:From all of us here at the Northcenter Chamber of Commerce\, we wish you a safe and spooky Halloween!&nbsp\;<br />\n<br />\nWhile we will not be hosting our normal event this year\, some of our local businesses will still be handing out candy on Saturday\, October 31st. Social distancing and facemasks required. Don&#39\;t forget to stop by Northcenter Town Square between 7-1 to shop our last farmers market of the year!<br />\n<a href="https://chambermaster.blob.core.windows.net/userfiles/UserFiles/chambers/1775/CMS/NCC_2020_TOT_Map.pdf">Download the map of businesses handing out candy here!&nbsp\;</a><br />\n<br />\nSubmit your photos for our Virtual Costume Contests by 10/31. Tag #NorthcenterHalloween2020 so we can find your photos on facebook or instagram!&nbsp\;<br />\n<br />\nVote for the &quot\;Best Decorated Business&quot\; on the chamber&#39\;s facebook or instagram page. Comment with your vote on the photo that&#39\;s your favorite. The business with the most votes wins a prize!&nbsp\;<br />\n<br />\nfacebook.com/northcenter<br />\ninstagram.com/northcenter
LOCATION:Northcenter neighborhood businesses
UID:e.1775.16034
SEQUENCE:3
DTSTAMP:20260425T191617Z
URL:https://business.northcenterchamber.com/events/details/halloween-trick-or-treat-in-northcenter-16034
END:VEVENT

END:VCALENDAR
