BEGIN:VCALENDAR
VERSION:2.0
PRODID:-//ChamberMaster//Event Calendar 2.0//EN
METHOD:PUBLISH
X-PUBLISHED-TTL:P3D
REFRESH-INTERVAL:P3D
CALSCALE:GREGORIAN
BEGIN:VEVENT
DTSTART:20211030T150000Z
DTEND:20211030T180000Z
X-MICROSOFT-CDO-ALLDAYEVENT:FALSE
SUMMARY:Halloween Trick-or-Treat in Northcenter 2021
DESCRIPTION:On October 30th\, put on your funniest\, spookiest\, most creative Halloween costumes and join us for a morning of Trick-or-Treating and holiday fun! Stop at Northcenter Town Square\, 4100 N Damen Ave\, pick up a treat bag and a map before visiting local businesses along Lincoln/Irving/Damen and in Northcenter Town Square\, that will be handing out candy and other fun prizes. \n\n \n\nBe sure to be back at Northcenter Town Square for our annual Costume Contest\, featuring prizes for ages 3 and under\, 4-9\, 10+ and a GRAND PRIZE for best costumed family! Also enjoy refreshments\, the Northcenter Farmers Market and so much more! You don't want to miss this!\n\n\n\nFind these businesses at Northcenter Town Square:\n\n\n	C4 - Community Counseling Centers of Chicago\n	LYRIQ Music School\n	Goldfish Swim School - Roscoe Village\n	Pilgrim Lutheran Church & School\n	47th Ward Office\n	Cook County Commissioner Bridget Degnen\n	Lincoln Square Orthodontics\n	Zneimer & Zneimer\n	State Senator Sara Feigenholtz\, 6th District\n	C4 - Community Counseling Centers of Chicago\n\n\nStop by these businesses in person:\n\n\n	Orange Shoe Personal Training - 3810 N Lincoln Ave.\n	Nava Segall MD Pediatrics - 4116 N Lincoln Ave. \n	Cobblestone Chicago - 4337 N Lincoln Ave. \n	@properties - 4100 N Lincoln Ave.\n	Natural Touch Chiropractic Center- 4361 N Lincoln Ave. \n	Corn Productions - 4210 N Lincoln Ave.\n	Botanical Cafe - 3740 N Lincoln Ave.\n	ROCKS Northcenter - 4138 N Lincoln Ave.\n	embellish chicago - 4161 N Lincoln Ave. \n	Wild Goose Bar - 4265 N Lincoln Ave.\n	Roam Salon - 4330 N Lincoln Ave.\n	The Lasswell Allstate Agency - 3843 N Lincoln Ave.\n	The Rambler Kitchen & Tap - 4128 N Lincoln Ave. \n	Bottles & Cans - 4109 N Lincoln Ave.\n	Fulton Grace Realty - 4141 N Lincoln Ave.\n	Wintrust Bank - 1946 W Irving Park Rd.\n	Baird & Warner North Center - 4037 N Damen Ave.\n	Northcenter Healthcare - 4045 N Damen Ave. Suite 1\n	Tuscan Hen Market - 4019 N Damen Ave. \n\n\n\n\n\n\nWhen you and your family arrive in Town Square to pick up your map and trick-or-treat bag\, be sure to bring by some non-perishable food items or toiletries\, which will be donated to Common Pantry to support our community members in need. Check their website for the latest information on what's needed.
X-ALT-DESC;FMTTYPE=text/html:<p><span style="color:black\;"><span style="font-family:arial\,sans-serif\;"><span style="font-size:12.0pt\;">On October 30th\, put on your funniest\, spookiest\, most creative Halloween costumes and join us for a morning of Trick-or-Treating and holiday fun! Stop at Northcenter Town Square\, 4100 N Damen Ave\, pick up a treat bag and a map before visiting local businesses along Lincoln/Irving/Damen and in Northcenter Town Square\, that will be handing out candy and other fun prizes.&nbsp\;</span></span></span><br />\n&nbsp\;<br />\n<span style="color:black\;"><span style="font-family:arial\,sans-serif\;"><span style="font-size:12.0pt\;">Be sure to be back at Northcenter Town Square for our annual Costume Contest\, featuring prizes for ages 3 and under\, 4-9\, 10+ and a GRAND PRIZE for best costumed family!&nbsp\;Also enjoy refreshments\, the Northcenter Farmers Market and so much more! You don&#39\;t want to miss this!<br />\n<br />\n<strong>Find these businesses at Northcenter Town Square:</strong></span></span></span></p>\n\n<ul>\n	<li><span style="font-size:16px\;">C4 - Community Counseling Centers of Chicago</span></li>\n	<li><span style="font-size:16px\;">LYRIQ Music School</span></li>\n	<li><span style="color:black\;"><span style="font-family:arial\,sans-serif\;"><span style="font-size:12.0pt\;">Goldfish Swim School - Roscoe Village</span></span></span></li>\n	<li><span style="color:black\;"><span style="font-family:arial\,sans-serif\;"><span style="font-size:12.0pt\;">Pilgrim Lutheran Church &amp\; School</span></span></span></li>\n	<li><span style="color:black\;"><span style="font-family:arial\,sans-serif\;"><span style="font-size:12.0pt\;">47th Ward Office</span></span></span></li>\n	<li><span style="color:black\;"><span style="font-family:arial\,sans-serif\;"><span style="font-size:12.0pt\;">Cook County Commissioner Bridget Degnen</span></span></span></li>\n	<li><span style="color:black\;"><span style="font-family:arial\,sans-serif\;"><span style="font-size:12.0pt\;">Lincoln Square Orthodontics</span></span></span></li>\n	<li><span style="color:black\;"><span style="font-family:arial\,sans-serif\;"><span style="font-size:12.0pt\;">Zneimer &amp\; Zneimer</span></span></span></li>\n	<li><font color="#000000" face="arial\, sans-serif"><span style="font-size: 16px\;">State Senator Sara Feigenholtz\, 6th District</span></font></li>\n	<li><font color="#000000" face="arial\, sans-serif"><span style="font-size: 16px\;">C4 - Community Counseling Centers of Chicago</span></font></li>\n</ul>\n\n<p><span style="color:black\;"><span style="font-family:arial\,sans-serif\;"><span style="font-size:12.0pt\;"><strong>Stop by these businesses in person:</strong></span></span></span></p>\n\n<ul>\n	<li><span style="color:black\;"><span style="font-family:arial\,sans-serif\;"><span style="font-size:12.0pt\;">Orange Shoe Personal Training -&nbsp\;<em>3810 N Lincoln Ave.</em></span></span></span></li>\n	<li><span style="color: rgb(0\, 0\, 0)\; font-family: arial\, sans-serif\; font-size: 16px\;">Nava Segall MD Pediatrics -&nbsp\;<em>4116 N Lincoln Ave.&nbsp\;</em></span></li>\n	<li><span style="color: rgb(0\, 0\, 0)\; font-family: arial\, sans-serif\; font-size: 16px\;">Cobblestone Chicago -&nbsp\;<em>4337 N Lincoln Ave.&nbsp\;</em></span></li>\n	<li><span style="font-family: arial\, sans-serif\; font-size: 16px\; background-color: rgb(255\, 255\, 255)\;">@properties -&nbsp\;</span><em style="font-family: arial\, sans-serif\; font-size: 16px\; background-color: rgb(255\, 255\, 255)\;">4100 N Lincoln Ave.</em></li>\n	<li><span style="font-size:16px\;">Natural Touch Chiropractic Center</span><em style="font-family: arial\, sans-serif\; font-size: 16px\; background-color: rgb(255\, 255\, 255)\;">- </em><em style="font-family: arial\, sans-serif\; font-size: 16px\; background-color: rgb(255\, 255\, 255)\;">4361 N Lincoln Ave.&nbsp\;</em></li>\n	<li><span style="color:black\;"><span style="font-family:arial\,sans-serif\;"><span style="font-size:12.0pt\;">Corn Productions -&nbsp\;<em>4210 N Lincoln Ave.</em></span></span></span></li>\n	<li><span style="color:black\;"><span style="font-family:arial\,sans-serif\;"><span style="font-size:12.0pt\;">Botanical Cafe -&nbsp\;<em>3740 N Lincoln Ave.</em></span></span></span></li>\n	<li><span style="color:black\;"><span style="font-family:arial\,sans-serif\;"><span style="font-size:12.0pt\;">ROCKS Northcenter -&nbsp\;<em>4138 N Lincoln Ave.</em></span></span></span></li>\n	<li><span style="color:black\;"><span style="font-family:arial\,sans-serif\;"><span style="font-size:12.0pt\;">embellish chicago - <em>4161 N Lincoln Ave.&nbsp\;</em></span></span></span></li>\n	<li><span style="color:black\;"><span style="font-family:arial\,sans-serif\;"><span style="font-size:12.0pt\;">Wild Goose Bar -&nbsp\;<em>4265 N Lincoln Ave.</em></span></span></span></li>\n	<li><span style="color:black\;"><span style="font-family:arial\,sans-serif\;"><span style="font-size:12.0pt\;">Roam Salon -&nbsp\;<em>4330 N Lincoln Ave.</em></span></span></span></li>\n	<li><span style="color:black\;"><span style="font-family:arial\,sans-serif\;"><span style="font-size:12.0pt\;">The Lasswell Allstate Agency -&nbsp\;<em>3843 N Lincoln Ave.</em></span></span></span></li>\n	<li><span style="color:black\;"><span style="font-family:arial\,sans-serif\;"><span style="font-size:12.0pt\;">The Rambler Kitchen &amp\; Tap - <em>4128 N Lincoln Ave.&nbsp\;</em></span></span></span></li>\n	<li><span style="color:black\;"><span style="font-family:arial\,sans-serif\;"><span style="font-size:12.0pt\;">Bottles &amp\; Cans -&nbsp\;<em>4109 N Lincoln Ave.</em></span></span></span></li>\n	<li><span style="color:black\;"><span style="font-family:arial\,sans-serif\;"><span style="font-size:12.0pt\;">Fulton Grace Realty -&nbsp\;<em>4141 N Lincoln Ave.</em></span></span></span></li>\n	<li><span style="color:black\;"><span style="font-family:arial\,sans-serif\;"><span style="font-size:12.0pt\;">Wintrust Bank -&nbsp\;<em>1946 W Irving Park Rd.</em></span></span></span></li>\n	<li><span style="color:black\;"><span style="font-family:arial\,sans-serif\;"><span style="font-size:12.0pt\;">Baird &amp\; Warner North Center -&nbsp\;<em>4037 N Damen Ave.</em></span></span></span></li>\n	<li><span style="color:black\;"><span style="font-family:arial\,sans-serif\;"><span style="font-size:12.0pt\;">Northcenter Healthcare -&nbsp\;<em>4045 N Damen Ave. Suite 1</em></span></span></span></li>\n	<li><span style="color:black\;"><span style="font-family:arial\,sans-serif\;"><span style="font-size:12.0pt\;">Tuscan Hen Market <em>- 4019 N Damen Ave.&nbsp\;</em></span></span></span></li>\n</ul>\n\n<p><br />\n<br />\n<em><span style="color:black\;"><span style="font-family:arial\,sans-serif\;"><span style="font-size:12.0pt\;">When you and your family arrive in Town Square to pick up your map and trick-or-treat bag\, be sure to bring by some non-perishable food items or toiletries\, which will be donated to&nbsp\;Common Pantry&nbsp\;to support our community members in need. Check&nbsp\;<a href="http://www.commonpantry.org/" target="_blank"><span style="color:black\;">their website</span></a>&nbsp\;for the latest information on what&#39\;s needed.&nbsp\;</span></span></span></em></p>\n
LOCATION:Northcenter Neighborhood Begin in Northcenter Town Square 4100 N Damen Ave
UID:e.1775.16357
SEQUENCE:3
DTSTAMP:20260420T214536Z
URL:https://business.northcenterchamber.com/events/details/halloween-trick-or-treat-in-northcenter-2021-16357
END:VEVENT

END:VCALENDAR
