BEGIN:VCALENDAR
VERSION:2.0
PRODID:-//ChamberMaster//Event Calendar 2.0//EN
METHOD:PUBLISH
X-PUBLISHED-TTL:P3D
REFRESH-INTERVAL:P3D
CALSCALE:GREGORIAN
BEGIN:VEVENT
DTSTART:20220227T000000Z
DTEND:20220227T053000Z
X-MICROSOFT-CDO-ALLDAYEVENT:FALSE
SUMMARY:Hawk and Sword Tavern
DESCRIPTION:Join us for a wintry night at the famed "Hawk and Sword" tavern in the medieval village of Chicago\, Illinois!\n\nFollowing up on the smashing success of our Tattler SAL's "Tropical Night at the Hawk Lagoon"\, they now present A Night at "The Hawk and Sword" - A Medieval and Fantasy-themed night of food\, costumes\, specialty cocktails\, live performances\, and an interactive mystery to solve!\n\nEach ticket will cover entry and food\, and there will be opportunities to earn prizes and special concoctions by playing in our interactive puzzles!\n\nAll other tips and donations will go to support the Tattler Post 973 Sons of the American Legion so we can continue to support our veterans and produce fun events for our community!
X-ALT-DESC;FMTTYPE=text/html:<p style="margin: 0px\; padding: 0px\; color: rgb(111\, 114\, 135)\; font-size: 16px\; line-height: 1.5rem\; font-family: &quot\;Neue Plak&quot\;\, -apple-system\, BlinkMacSystemFont\, Roboto\, &quot\;Helvetica Neue&quot\;\, Helvetica\, Tahoma\, Arial\, sans-serif\; letter-spacing: 0.5px\;">Join us for a wintry night at the famed &quot\;Hawk and Sword&quot\; tavern in the medieval village of Chicago\, Illinois!</p>\n\n<p style="margin: 0px\; padding: 10px 0px 0px\; color: rgb(111\, 114\, 135)\; font-size: 16px\; line-height: 1.5rem\; font-family: &quot\;Neue Plak&quot\;\, -apple-system\, BlinkMacSystemFont\, Roboto\, &quot\;Helvetica Neue&quot\;\, Helvetica\, Tahoma\, Arial\, sans-serif\; letter-spacing: 0.5px\;">Following up on the smashing success of our Tattler SAL&#39\;s &quot\;Tropical Night at the Hawk Lagoon&quot\;\, they now present A Night at &quot\;The Hawk and Sword&quot\; - A Medieval and Fantasy-themed night of food\, costumes\, specialty cocktails\, live performances\, and an interactive mystery to solve!</p>\n\n<p style="margin: 0px\; padding: 10px 0px 0px\; color: rgb(111\, 114\, 135)\; font-size: 16px\; line-height: 1.5rem\; font-family: &quot\;Neue Plak&quot\;\, -apple-system\, BlinkMacSystemFont\, Roboto\, &quot\;Helvetica Neue&quot\;\, Helvetica\, Tahoma\, Arial\, sans-serif\; letter-spacing: 0.5px\;">Each ticket will cover entry and food\, and there will be opportunities to earn prizes and special concoctions by playing in our interactive puzzles!</p>\n\n<p style="margin: 0px\; padding: 10px 0px 0px\; color: rgb(111\, 114\, 135)\; font-size: 16px\; line-height: 1.5rem\; font-family: &quot\;Neue Plak&quot\;\, -apple-system\, BlinkMacSystemFont\, Roboto\, &quot\;Helvetica Neue&quot\;\, Helvetica\, Tahoma\, Arial\, sans-serif\; letter-spacing: 0.5px\;">All other tips and donations will go to support the Tattler Post 973 Sons of the American Legion so we can continue to support our veterans and produce fun events for our community!</p>\n
LOCATION:American Legion Post 973 - Tattler 4355 N Western Ave Chicago\, IL 60618
UID:e.1775.16804
SEQUENCE:3
DTSTAMP:20260420T171414Z
URL:https://business.northcenterchamber.com/events/details/hawk-and-sword-tavern-16804
END:VEVENT

END:VCALENDAR
