BEGIN:VCALENDAR
VERSION:2.0
PRODID:-//ChamberMaster//Event Calendar 2.0//EN
METHOD:PUBLISH
X-PUBLISHED-TTL:P3D
REFRESH-INTERVAL:P3D
CALSCALE:GREGORIAN
BEGIN:VEVENT
DTSTART:20220212T220000Z
DTEND:20220213T000000Z
X-MICROSOFT-CDO-ALLDAYEVENT:FALSE
SUMMARY:Healing Circle for Teachers
DESCRIPTION:Centered Therapy Chicago is hosting a Healing Circle for Teachers in February 2022.\n\nTeachers will learn coping skills they can use immediately in the classroom even with their students. Leader will provide space for teachers to share fears and concerns around school violence and living with on-going Covid 19 issues.
X-ALT-DESC;FMTTYPE=text/html:<h2 style="margin: 0px\; padding: 0px\; color: rgb(32\, 32\, 32)\; font-family: Helvetica\; font-size: 22px\; font-weight: bold\; line-height: 27.5px\; text-align: center\;"><span style="font-size: 18px\;"><span style="font-family: arial\, &quot\;helvetica neue&quot\;\, helvetica\, sans-serif\;"><a href="https://www.ctctrainingcenter.com/courses/teachercircleFeb2022" style="text-size-adjust: 100%\; color: rgb(0\, 124\, 137)\; font-weight: normal\;" target="_blank">Centered Therapy Chicago</a>&nbsp\;is hosting a Healing Circle for Teachers in February 2022.</span></span></h2>\n\n<p style="margin: 10px 0px\; padding: 0px\; text-size-adjust: 100%\; color: rgb(32\, 32\, 32)\; font-family: Helvetica\; font-size: 16px\; line-height: 24px\;"><span style="font-family: arial\, &quot\;helvetica neue&quot\;\, helvetica\, sans-serif\;">Teachers will learn coping skills they can use immediately in the classroom even with their students. Leader will provide space for teachers to share fears and concerns around school violence and living with on-going Covid 19 issues.</span></p>\n
LOCATION:Zoom Registration
UID:e.1775.16803
SEQUENCE:3
DTSTAMP:20260420T171439Z
URL:https://business.northcenterchamber.com/events/details/healing-circle-for-teachers-16803
END:VEVENT

END:VCALENDAR
