BEGIN:VCALENDAR
VERSION:2.0
PRODID:-//ChamberMaster//Event Calendar 2.0//EN
METHOD:PUBLISH
X-PUBLISHED-TTL:P3D
REFRESH-INTERVAL:P3D
CALSCALE:GREGORIAN
BEGIN:VEVENT
DTSTART:20211211T180000Z
DTEND:20211212T020000Z
X-MICROSOFT-CDO-ALLDAYEVENT:FALSE
SUMMARY:Holly Jolly Holiday Market 2021
DESCRIPTION:We are excited to share our Holly Jolly Holiday Market featuring fun for the whole family. On December 11th from NOON-8 PM\, visitors can explore 20+ vendors\, enjoy food and drinks\, and hot cocoa. Children of all ages will enjoy Santa\, a Winter Queen\, entertainment\, bands\, and much MORE!\n\nHolly Jolly Holiday Market Vendors\n\n \n\nFood\n\nNuts to Go\n\nWith Love Baked Goods\n\nRitual Coffee\n\nTuscan Hen\n\nSimon's Tavern\n\nThe Rambler\n\n \n\nArt\n\nSharon Gaietto Photography\n\nSteve Connell Art\n\n \n\nMixed Media\n\nDonzell Creative\n\nLincoln Square Pottery\n\n \n\nJewelry \n\nEllesee\n\n \n\nFitness and Activewear\n\nClub Pilates\n\n \n\nClothing\n\nMK Threads\n\n \n\nKids\n\nEasel Art Studio\n\nDizzy Cow\n\nTimeless Toys\n\n \n\nPets\n\nRuff Haus Pets\n\nHelping Paws Chicago\n\n \n\nHome Goods\n\nSend Some Chicago\n\nEco and the Flamingo\n\n \n\nBeauty\n\nWorkshop Apothecary
X-ALT-DESC;FMTTYPE=text/html:<p align="center" style="font-family: Ubuntu\, Arial\, sans-serif\; font-size: 18px\;">We are excited to share our Holly Jolly Holiday Market featuring fun for the whole family. On December 11th from NOON-8 PM\, visitors can explore 20+ vendors\, enjoy food and drinks\, and hot cocoa. Children of all ages will enjoy Santa\, a Winter Queen\, entertainment\, bands\, and much MORE!</p>\n\n<p align="center" style="font-family: Ubuntu\, Arial\, sans-serif\; font-size: 18px\; margin-top: 0px !important\; margin-bottom: 0px !important\;"><font color="#00BFF3" face="Ubuntu\, Arial\, sans-serif\, WaWebKitSavedSpanIndex_0" style="font-size: 36px\;"><strong>Holly Jolly Holiday Market Vendors</strong></font></p>\n\n<p align="center" style="font-family: Ubuntu\, Arial\, sans-serif\; font-size: 18px\; margin-bottom: 0px\; line-height: 22px\; margin-top: 0px !important\;">&nbsp\;</p>\n\n<p align="center" style="font-family: Ubuntu\, Arial\, sans-serif\; font-size: 18px\; margin-bottom: 0px\; line-height: 22px\; margin-top: 0px\;"><font face="Ubuntu\, Arial\, sans-serif\, WaWebKitSavedSpanIndex_0"><font color="#414a53"><strong>Food</strong></font></font></p>\n\n<p align="center" style="font-family: Ubuntu\, Arial\, sans-serif\; font-size: 18px\; margin-bottom: 0px\; line-height: 22px\; margin-top: 0px !important\;"><font face="Ubuntu\, Arial\, sans-serif\, WaWebKitSavedSpanIndex_0"><font color="#414a53">Nuts to Go</font></font></p>\n\n<p align="center" style="font-family: Ubuntu\, Arial\, sans-serif\; font-size: 18px\; margin-bottom: 0px\; line-height: 22px\; margin-top: 0px !important\;"><font face="Ubuntu\, Arial\, sans-serif\, WaWebKitSavedSpanIndex_0"><font color="#414a53">With Love Baked Goods</font></font></p>\n\n<p align="center" style="font-family: Ubuntu\, Arial\, sans-serif\; font-size: 18px\; margin-bottom: 0px\; line-height: 22px\; margin-top: 0px !important\;"><font face="Ubuntu\, Arial\, sans-serif\, WaWebKitSavedSpanIndex_0"><font color="#414a53">Ritual Coffee</font></font></p>\n\n<p align="center" style="font-family: Ubuntu\, Arial\, sans-serif\; font-size: 18px\; margin-bottom: 0px\; line-height: 22px\; margin-top: 0px !important\;"><font face="Ubuntu\, Arial\, sans-serif\, WaWebKitSavedSpanIndex_0"><font color="#414a53">Tuscan Hen</font></font></p>\n\n<p align="center" style="font-family: Ubuntu\, Arial\, sans-serif\; font-size: 18px\; margin-bottom: 0px\; line-height: 22px\; margin-top: 0px !important\;"><font face="Ubuntu\, Arial\, sans-serif\, WaWebKitSavedSpanIndex_0"><font color="#414a53">Simon&#39\;s Tavern</font></font></p>\n\n<p align="center" style="font-family: Ubuntu\, Arial\, sans-serif\; font-size: 18px\; margin-bottom: 0px\; line-height: 22px\; margin-top: 0px !important\;"><font color="#414a53" face="Ubuntu\, Arial\, sans-serif\, WaWebKitSavedSpanIndex_0">The Rambler</font></p>\n\n<p align="center" style="font-family: Ubuntu\, Arial\, sans-serif\; font-size: 18px\; margin-bottom: 0px\; line-height: 22px\; margin-top: 0px !important\;">&nbsp\;</p>\n\n<p align="center" style="font-family: Ubuntu\, Arial\, sans-serif\; font-size: 18px\; margin-bottom: 0px\; line-height: 22px\; margin-top: 0px !important\;"><font color="#414a53" face="Ubuntu\, Arial\, sans-serif\, WaWebKitSavedSpanIndex_0"><strong>Art</strong></font></p>\n\n<p align="center" style="font-family: Ubuntu\, Arial\, sans-serif\; font-size: 18px\; margin-bottom: 0px\; line-height: 22px\; margin-top: 0px !important\;"><font color="#414a53" face="Ubuntu\, Arial\, sans-serif\, WaWebKitSavedSpanIndex_0">Sharon Gaietto Photography</font></p>\n\n<p align="center" style="font-family: Ubuntu\, Arial\, sans-serif\; font-size: 18px\; margin-bottom: 0px\; line-height: 22px\; margin-top: 0px !important\;"><font color="#414a53" face="Ubuntu\, Arial\, sans-serif\, WaWebKitSavedSpanIndex_0">Steve Connell Art</font></p>\n\n<p align="center" style="font-family: Ubuntu\, Arial\, sans-serif\; font-size: 18px\; margin-bottom: 0px\; line-height: 22px\; margin-top: 0px !important\;">&nbsp\;</p>\n\n<p align="center" style="font-family: Ubuntu\, Arial\, sans-serif\; font-size: 18px\; margin-bottom: 0px\; line-height: 22px\; margin-top: 0px !important\;"><font color="#414a53" face="Ubuntu\, Arial\, sans-serif\, WaWebKitSavedSpanIndex_0"><strong>Mixed Media</strong></font></p>\n\n<p align="center" style="font-family: Ubuntu\, Arial\, sans-serif\; font-size: 18px\; margin-bottom: 0px\; line-height: 22px\; margin-top: 0px !important\;"><font color="#414a53" face="Ubuntu\, Arial\, sans-serif\, WaWebKitSavedSpanIndex_0">Donzell Creative</font></p>\n\n<p align="center" style="font-family: Ubuntu\, Arial\, sans-serif\; font-size: 18px\; margin-bottom: 0px\; line-height: 22px\; margin-top: 0px !important\;"><font color="#414a53" face="Ubuntu\, Arial\, sans-serif\, WaWebKitSavedSpanIndex_0">Lincoln Square Pottery</font></p>\n\n<p align="center" style="font-family: Ubuntu\, Arial\, sans-serif\; font-size: 18px\; margin-bottom: 0px\; line-height: 22px\; margin-top: 0px !important\;">&nbsp\;</p>\n\n<p align="center" style="font-family: Ubuntu\, Arial\, sans-serif\; font-size: 18px\; margin-bottom: 0px\; line-height: 22px\; margin-top: 0px !important\;"><font color="#414a53" face="Ubuntu\, Arial\, sans-serif\, WaWebKitSavedSpanIndex_0"><strong>Jewelry&nbsp\;</strong></font></p>\n\n<p align="center" style="font-family: Ubuntu\, Arial\, sans-serif\; font-size: 18px\; margin-bottom: 0px\; line-height: 22px\; margin-top: 0px !important\;"><font color="#414a53" face="Ubuntu\, Arial\, sans-serif\, WaWebKitSavedSpanIndex_0">Ellesee</font></p>\n\n<p align="center" style="font-family: Ubuntu\, Arial\, sans-serif\; font-size: 18px\; margin-bottom: 0px\; line-height: 22px\; margin-top: 0px !important\;">&nbsp\;</p>\n\n<p align="center" style="font-family: Ubuntu\, Arial\, sans-serif\; font-size: 18px\; margin-bottom: 0px\; line-height: 22px\; margin-top: 0px !important\;"><font color="#414a53" face="Ubuntu\, Arial\, sans-serif\, WaWebKitSavedSpanIndex_0"><strong>Fitness and Activewear</strong></font></p>\n\n<p align="center" style="font-family: Ubuntu\, Arial\, sans-serif\; font-size: 18px\; margin-bottom: 0px\; line-height: 22px\; margin-top: 0px !important\;"><font color="#414a53" face="Ubuntu\, Arial\, sans-serif\, WaWebKitSavedSpanIndex_0">Club Pilates</font></p>\n\n<p align="center" style="font-family: Ubuntu\, Arial\, sans-serif\; font-size: 18px\; margin-bottom: 0px\; line-height: 22px\; margin-top: 0px !important\;">&nbsp\;</p>\n\n<p align="center" style="font-family: Ubuntu\, Arial\, sans-serif\; font-size: 18px\; margin-bottom: 0px\; line-height: 22px\; margin-top: 0px !important\;"><font color="#414a53" face="Ubuntu\, Arial\, sans-serif\, WaWebKitSavedSpanIndex_0"><strong>Clothing</strong></font></p>\n\n<p align="center" style="font-family: Ubuntu\, Arial\, sans-serif\; font-size: 18px\; margin-bottom: 0px\; line-height: 22px\; margin-top: 0px !important\;"><font color="#414a53" face="Ubuntu\, Arial\, sans-serif\, WaWebKitSavedSpanIndex_0">MK Threads</font></p>\n\n<p align="center" style="font-family: Ubuntu\, Arial\, sans-serif\; font-size: 18px\; margin-bottom: 0px\; line-height: 22px\; margin-top: 0px\;">&nbsp\;</p>\n\n<p align="center" style="font-family: Ubuntu\, Arial\, sans-serif\; font-size: 18px\; margin-bottom: 0px\; line-height: 22px\; margin-top: 0px !important\;"><font color="#414a53" face="Ubuntu\, Arial\, sans-serif\, WaWebKitSavedSpanIndex_0"><strong>Kids</strong></font></p>\n\n<p align="center" style="font-family: Ubuntu\, Arial\, sans-serif\; font-size: 18px\; margin-bottom: 0px\; line-height: 22px\; margin-top: 0px !important\;"><font color="#414a53" face="Ubuntu\, Arial\, sans-serif\, WaWebKitSavedSpanIndex_0">Easel Art Studio</font></p>\n\n<p align="center" style="font-family: Ubuntu\, Arial\, sans-serif\; font-size: 18px\; margin-bottom: 0px\; line-height: 22px\; margin-top: 0px !important\;"><font color="#414a53" face="Ubuntu\, Arial\, sans-serif\, WaWebKitSavedSpanIndex_0">Dizzy Cow</font></p>\n\n<p align="center" style="font-family: Ubuntu\, Arial\, sans-serif\; font-size: 18px\; margin-bottom: 0px\; line-height: 22px\; margin-top: 0px !important\;"><font color="#414a53" face="Ubuntu\, Arial\, sans-serif\, WaWebKitSavedSpanIndex_0">Timeless Toys</font></p>\n\n<p align="center" style="font-family: Ubuntu\, Arial\, sans-serif\; font-size: 18px\; margin-bottom: 0px\; line-height: 22px\; margin-top: 0px !important\;">&nbsp\;</p>\n\n<p align="center" style="font-family: Ubuntu\, Arial\, sans-serif\; font-size: 18px\; margin-bottom: 0px\; line-height: 22px\; margin-top: 0px !important\;"><font color="#414a53" face="Ubuntu\, Arial\, sans-serif\, WaWebKitSavedSpanIndex_0"><strong>Pets</strong></font></p>\n\n<p align="center" style="font-family: Ubuntu\, Arial\, sans-serif\; font-size: 18px\; margin-bottom: 0px\; line-height: 22px\; margin-top: 0px !important\;"><font color="#414a53" face="Ubuntu\, Arial\, sans-serif\, WaWebKitSavedSpanIndex_0">Ruff Haus Pets</font></p>\n\n<p align="center" style="font-family: Ubuntu\, Arial\, sans-serif\; font-size: 18px\; margin-bottom: 0px\; line-height: 22px\; margin-top: 0px !important\;"><font color="#414a53" face="Ubuntu\, Arial\, sans-serif\, WaWebKitSavedSpanIndex_0">Helping Paws Chicago</font></p>\n\n<p align="center" style="font-family: Ubuntu\, Arial\, sans-serif\; font-size: 18px\; margin-bottom: 0px\; line-height: 22px\; margin-top: 0px !important\;">&nbsp\;</p>\n\n<p align="center" style="font-family: Ubuntu\, Arial\, sans-serif\; font-size: 18px\; margin-bottom: 0px\; line-height: 22px\; margin-top: 0px !important\;"><font color="#414a53" face="Ubuntu\, Arial\, sans-serif\, WaWebKitSavedSpanIndex_0"><strong>Home Goods</strong></font></p>\n\n<p align="center" style="font-family: Ubuntu\, Arial\, sans-serif\; font-size: 18px\; margin-bottom: 0px\; line-height: 22px\; margin-top: 0px !important\;"><font color="#414a53" face="Ubuntu\, Arial\, sans-serif\, WaWebKitSavedSpanIndex_0">Send Some Chicago</font></p>\n\n<p align="center" style="font-family: Ubuntu\, Arial\, sans-serif\; font-size: 18px\; margin-bottom: 0px\; line-height: 22px\; margin-top: 0px !important\;"><font color="#414a53">Eco and the Flamingo</font></p>\n\n<p align="center" style="font-family: Ubuntu\, Arial\, sans-serif\; font-size: 18px\; margin-bottom: 0px\; line-height: 22px\; margin-top: 0px\;">&nbsp\;</p>\n\n<p align="center" style="font-family: Ubuntu\, Arial\, sans-serif\; font-size: 18px\; margin-bottom: 0px\; line-height: 22px\; margin-top: 0px !important\;"><strong><font color="#414a53">Beauty</font></strong></p>\n\n<p align="center" style="font-family: Ubuntu\, Arial\, sans-serif\; font-size: 18px\; margin-bottom: 0px\; line-height: 22px\; margin-top: 0px !important\;"><font color="#414a53">Workshop Apothecary</font></p>\n\n<p align="center" style="font-family: Ubuntu\, Arial\, sans-serif\; font-size: 18px\; margin-bottom: 0px !important\;"><br />\n&nbsp\;</p>\n
LOCATION:Northcenter Town Square 4100 N Damen Ave Chicago\, IL 60618
UID:e.1775.16380
SEQUENCE:3
DTSTAMP:20260420T200736Z
URL:https://business.northcenterchamber.com/events/details/holly-jolly-holiday-market-2021-16380
END:VEVENT

END:VCALENDAR
