BEGIN:VCALENDAR
VERSION:2.0
PRODID:-//ChamberMaster//Event Calendar 2.0//EN
METHOD:PUBLISH
X-PUBLISHED-TTL:P3D
REFRESH-INTERVAL:P3D
CALSCALE:GREGORIAN
BEGIN:VEVENT
DTSTART:20211205T233000Z
DTEND:20211206T020000Z
X-MICROSOFT-CDO-ALLDAYEVENT:FALSE
SUMMARY:Home for the Holidays Workshop with Northside Housing and Supportive Services
DESCRIPTION:Perfect for crafters of all ages\, this workshop has everything you need to create your very own hand sculpted gingerbread house ornament with polymer clay to enjoy for years to come!\n\n\n\nMakes a wonderful gift\, or new holiday keepsake! This class offers a great way to spend quality time with friends\, family or even as a date night while supporting a great cause!\n\n\n\nEach class registration fee will help fund critical housing and supportive services provided to over 800 Chicagoan's in need each year! Space is limited so sign up today.
X-ALT-DESC;FMTTYPE=text/html:<span style="font-family:arial\,sans-serif\;">Perfect for crafters of all ages\,&nbsp\;this workshop has everything you need to create&nbsp\;your very&nbsp\;own hand sculpted gingerbread house ornament with polymer clay&nbsp\;to enjoy for years to come!</span><br />\n<br />\n<span style="font-family:arial\,sans-serif\;">Makes a wonderful gift\, or&nbsp\;new holiday keepsake!&nbsp\;This class offers a great way to spend quality time with friends\, family or even as a date night while supporting a great cause!</span><br />\n<br />\n<span style="box-sizing:border-box\;"><span style="box-sizing:border-box\;"><span style="font-family:arial\,sans-serif\;">Each class registration fee will help fund critical housing and supportive services provided to over 800 Chicagoan&#39\;s in need each year!&nbsp\;Space is limited so sign up today.</span></span></span><br />\n&nbsp\;
LOCATION:StudioUs Chicago 4806 N Clark Street
UID:e.1775.16375
SEQUENCE:3
DTSTAMP:20260420T183716Z
URL:https://business.northcenterchamber.com/events/details/home-for-the-holidays-workshop-with-northside-housing-and-supportive-services-16375
END:VEVENT

END:VCALENDAR
