BEGIN:VCALENDAR
VERSION:2.0
PRODID:-//ChamberMaster//Event Calendar 2.0//EN
METHOD:PUBLISH
X-PUBLISHED-TTL:P3D
REFRESH-INTERVAL:P3D
CALSCALE:GREGORIAN
BEGIN:VEVENT
DTSTART:20220416T150000Z
DTEND:20220416T180000Z
X-MICROSOFT-CDO-ALLDAYEVENT:FALSE
SUMMARY:Hop 'N' Stop in Northcenter! Family spring event
DESCRIPTION:Hop into spring with the Northcenter Chamber's spring celebration\,\n\nHop 'N' Stop! This event invites families for a morning of delightful activities. The day begins with hunting for prizes at local Northcenter businesses and continues at The Town Square (4100 N Damen Ave)\, featuring a visit from the Easter Bunny\, refreshments and more!
X-ALT-DESC;FMTTYPE=text/html:<span style="font-family:tahoma\;"><span style="font-size:14px\;">Hop into spring with the Northcenter Chamber&#39\;s spring celebration\,<br />\n<strong>Hop &#39\;N&#39\; Stop!</strong> This event invites families for a morning of delightful activities. The day begins with hunting for prizes at local&nbsp\;Northcenter businesses and continues at The Town Square (4100 N Damen Ave)\, featuring a visit from the Easter Bunny\, refreshments and more!&nbsp\;</span></span>\n<div style="color: rgb(0\, 0\, 0)\; font-family: Arial\, Helvetica\, sans-serif\; font-size: 16px\;">\n<div style="color: rgb(0\, 0\, 0)\; font-family: Arial\, Helvetica\, sans-serif\; font-size: 16px\;">&nbsp\;</div>\n</div>\n
LOCATION:The Town Square (4100 N. Damen) & businesses on and around Lincoln Avenue\, Irving Park & Damen
UID:e.1775.16857
SEQUENCE:3
DTSTAMP:20260420T154106Z
URL:https://business.northcenterchamber.com/events/details/hop-n-stop-in-northcenter-family-spring-event-16857
END:VEVENT

END:VCALENDAR
