BEGIN:VCALENDAR
VERSION:2.0
PRODID:-//ChamberMaster//Event Calendar 2.0//EN
METHOD:PUBLISH
X-PUBLISHED-TTL:P3D
REFRESH-INTERVAL:P3D
CALSCALE:GREGORIAN
BEGIN:VEVENT
DTSTART:20210319T203000Z
DTEND:20210319T213000Z
X-MICROSOFT-CDO-ALLDAYEVENT:FALSE
SUMMARY:Is Your Sales Team Taking Over?
DESCRIPTION:Join Dafne Tsakiris and Marie Hale as they talk about how to take control of your pipeline. Is sales running the show at your company? With the uncertainties of this last year\, we all told sales to 'do what it takes to close it'. But the increase in sales does not always translate well across the rest of the business\, especially when it comes to operations\, budgeting and scalability.\n\n\n\nIn this webinar\, we will uncover the top 3 breakdowns that happen when sales go gangbusters and what you can do to address them. We will look at:\n\n  How to plan for the growth organization-wide\n\n  How to ironclad your client onboarding\n\n  How to test your systems and processes with the projected client load\n\n\n\nThese simple strategies will allow you to move away from the churn and burn that happens when sales overpromises and fulfillment under delivers. Don't let an influx of new clients be the thing that breaks your business and taints your reputation.
X-ALT-DESC;FMTTYPE=text/html:Join Dafne Tsakiris and Marie Hale as they talk about how to take control of your pipeline. Is sales running the show at your company? With the uncertainties of this last year\, we all told sales to &#39\;do what it takes to close it&#39\;. But the increase in sales does not always translate well across the rest of the business\, especially when it comes to operations\, budgeting and scalability.<br />\n<br />\nIn this webinar\, we will uncover the top 3 breakdowns that happen when sales go gangbusters and what you can do to address them. We will look at:<br />\n&middot\; How to plan for the growth organization-wide<br />\n&middot\; How to ironclad your client onboarding<br />\n&middot\; How to test your systems and processes with the projected client load<br />\n<br />\nThese simple strategies will allow you to move away from the churn and burn that happens when sales overpromises and fulfillment under delivers. Don&rsquo\;t let an influx of new clients be the thing that breaks your business and taints your reputation.
LOCATION:Virtual
UID:e.1775.16072
SEQUENCE:3
DTSTAMP:20260421T115122Z
URL:https://business.northcenterchamber.com/events/details/is-your-sales-team-taking-over-16072
END:VEVENT

END:VCALENDAR
