BEGIN:VCALENDAR
VERSION:2.0
PRODID:-//ChamberMaster//Event Calendar 2.0//EN
METHOD:PUBLISH
X-PUBLISHED-TTL:P3D
REFRESH-INTERVAL:P3D
CALSCALE:GREGORIAN
BEGIN:VEVENT
DTSTART:20220123T200000Z
DTEND:20220123T220000Z
X-MICROSOFT-CDO-ALLDAYEVENT:FALSE
SUMMARY:Jewish Genealogical Society of Illinois free live webinar
DESCRIPTION:"Navigating Your Jewish DNA Results" will be the title of a virtual presentation by genealogist Adina Newman for the Sunday\, Jan. 23\, 2022\, meeting of the Jewish Genealogical Society of Illinois at 2 p.m. CST. Register/RSVP to receive the Zoom link at https://jgsi.org/Events-calendar. Topics will include ethnicity estimates\, tools to understand and locate DNA matches\, nuances found at each testing company\, and strategies to tackle endogamy.
X-ALT-DESC;FMTTYPE=text/html:&ldquo\;Navigating Your Jewish DNA Results&rdquo\; will be the title of a virtual presentation by genealogist Adina Newman for the Sunday\, Jan. 23\, 2022\, meeting of the Jewish Genealogical Society of Illinois at 2 p.m. CST. Register/RSVP to receive the Zoom link at https://jgsi.org/Events-calendar. Topics will include ethnicity estimates\, tools to understand and locate DNA matches\, nuances found at each testing company\, and strategies to tackle endogamy.
LOCATION:Online
UID:e.1775.16382
SEQUENCE:3
DTSTAMP:20260420T170739Z
URL:https://business.northcenterchamber.com/events/details/jewish-genealogical-society-of-illinois-free-live-webinar-01-23-2022-16382
END:VEVENT

END:VCALENDAR
