BEGIN:VCALENDAR
VERSION:2.0
PRODID:-//ChamberMaster//Event Calendar 2.0//EN
METHOD:PUBLISH
X-PUBLISHED-TTL:P3D
REFRESH-INTERVAL:P3D
CALSCALE:GREGORIAN
BEGIN:VEVENT
DTSTART:20210321T190000Z
DTEND:20210321T210000Z
X-MICROSOFT-CDO-ALLDAYEVENT:FALSE
SUMMARY:Jewish Genealogical Society of Illinois free live webinar
DESCRIPTION:"Finding Your Kaplans\," a free Jewish genealogy webinar about researching common names\, will be presented Sunday\, March 21\, 2021\, for the Jewish Genealogical Society of Illinois. Mindie Kaplan's live streaming presentation will begin at 2 p.m. CST\, and will be preceded at 1 p.m. by a members-only genealogy question-and-answer discussion time. For more information\, see https://jgsi.org/Events-calendar.
X-ALT-DESC;FMTTYPE=text/html:&ldquo\;Finding Your Kaplans\,&rdquo\; a free Jewish genealogy webinar about researching common names\, will be presented Sunday\, March 21\, 2021\, for the Jewish Genealogical Society of Illinois. Mindie Kaplan&rsquo\;s live streaming presentation will begin at 2 p.m. CST\, and will be preceded at 1 p.m. by a members-only genealogy question-and-answer discussion time. For more information\, see https://jgsi.org/Events-calendar.
LOCATION:From the convenience of your home computer
UID:e.1775.16070
SEQUENCE:3
DTSTAMP:20260421T115820Z
URL:https://business.northcenterchamber.com/events/details/jewish-genealogical-society-of-illinois-free-live-webinar-03-21-2021-16070
END:VEVENT

END:VCALENDAR
