BEGIN:VCALENDAR
VERSION:2.0
PRODID:-//ChamberMaster//Event Calendar 2.0//EN
METHOD:PUBLISH
X-PUBLISHED-TTL:P3D
REFRESH-INTERVAL:P3D
CALSCALE:GREGORIAN
BEGIN:VEVENT
DTSTART:20220424T190000Z
DTEND:20220424T190000Z
X-MICROSOFT-CDO-ALLDAYEVENT:FALSE
SUMMARY:Jewish Genealogical Society of Illinois free live webinar
DESCRIPTION:"Conflict Management: Evaluating Evidence of Identity" will be the topic of a Jewish genealogy research methods talk by Emily H. Garber for the 2 p.m. CDT\, Sunday\, April 24\, 2022\, virtual meeting of the Jewish Genealogical Society of Illinois. This talk will address research challenges presented in a case study of U.S. records and explain procedures for gathering records\, evaluating information\, and analyzing evidence of our relatives' lives. Register/RSVP at: https://jgsi.org/Events-calendar.
X-ALT-DESC;FMTTYPE=text/html:&ldquo\;Conflict Management: Evaluating Evidence of Identity&rdquo\; will be the topic of a Jewish genealogy research methods talk by Emily H. Garber for the 2 p.m. CDT\, Sunday\, April 24\, 2022\, virtual meeting of the Jewish Genealogical Society of Illinois. This talk will address research challenges presented in a case study of U.S. records and explain procedures for gathering records\, evaluating information\, and analyzing evidence of our relatives&rsquo\; lives. Register/RSVP at: https://jgsi.org/Events-calendar.
LOCATION:Online
UID:e.1775.16976
SEQUENCE:3
DTSTAMP:20260420T121730Z
URL:https://business.northcenterchamber.com/events/details/jewish-genealogical-society-of-illinois-free-live-webinar-04-24-2022-16976
END:VEVENT

END:VCALENDAR
