BEGIN:VCALENDAR
VERSION:2.0
PRODID:-//ChamberMaster//Event Calendar 2.0//EN
METHOD:PUBLISH
X-PUBLISHED-TTL:P3D
REFRESH-INTERVAL:P3D
CALSCALE:GREGORIAN
BEGIN:VEVENT
DTSTART:20210425T190000Z
DTEND:20210425T210000Z
X-MICROSOFT-CDO-ALLDAYEVENT:FALSE
SUMMARY:Jewish Genealogical Society of Illinois free live webinar
DESCRIPTION:"Three Guides\, Four Countries: A Daughter of Holocaust Survivors Travels to Their Ancestral Villages" will be the webinar topic of genealogist Deborah Long at 2 p.m. Central Time\, Sunday\, April 25\, 2021\, for the Jewish Genealogical Society of Illinois virtual meeting. For details\, see https://jgsi.org/Events-calendar or phone 312-666-0100.
X-ALT-DESC;FMTTYPE=text/html:&ldquo\;Three Guides\, Four Countries: A Daughter of Holocaust Survivors Travels to Their Ancestral Villages&rdquo\; will be the webinar topic of genealogist Deborah Long at 2 p.m. Central Time\, Sunday\, April 25\, 2021\, for the Jewish Genealogical Society of Illinois virtual meeting. For details\, see https://jgsi.org/Events-calendar or phone 312-666-0100.
LOCATION:From the convenience of your home computer
UID:e.1775.16102
SEQUENCE:3
DTSTAMP:20260423T085400Z
URL:https://business.northcenterchamber.com/events/details/jewish-genealogical-society-of-illinois-free-live-webinar-04-25-2021-16102
END:VEVENT

END:VCALENDAR
