BEGIN:VCALENDAR
VERSION:2.0
PRODID:-//ChamberMaster//Event Calendar 2.0//EN
METHOD:PUBLISH
X-PUBLISHED-TTL:P3D
REFRESH-INTERVAL:P3D
CALSCALE:GREGORIAN
BEGIN:VEVENT
DTSTART:20210524T003000Z
DTEND:20210524T020000Z
X-MICROSOFT-CDO-ALLDAYEVENT:FALSE
SUMMARY:Jewish Genealogical Society of Illinois free live webinar
DESCRIPTION:Eli Rabinowitz\, a board member of the International Association of Jewish Genealogical Societies (IAJGS) who lives in Australia and is from South Africa\, will speak on "Journeys from Shtetl to Shtetl" for the Sunday\, May 23\, 2021\, virtual meeting of the Jewish Genealogical Society of Illinois. This live streaming genealogy talk will begin at 7:30 p.m. CDT. To register/RSVP\, go to https://jgsi.org/Events-calendar. In his presentation\, Rabinowitz will explain how to trace our past and plot our future\, using 88 KehilaLinks\, over 760 WordPress blog entries\, Facebook posts\, and other social media. He will also discuss Jewish heritage travels in the actual and virtual worlds.
X-ALT-DESC;FMTTYPE=text/html:Eli Rabinowitz\, a board member of the International Association of Jewish Genealogical Societies (IAJGS) who lives in Australia and is from South Africa\, will speak on &ldquo\;Journeys from Shtetl to Shtetl&rdquo\; for the Sunday\, May 23\, 2021\, virtual meeting of the Jewish Genealogical Society of Illinois. This live streaming genealogy talk will begin at 7:30 p.m. CDT. To register/RSVP\, go to https://jgsi.org/Events-calendar. In his presentation\, Rabinowitz will explain how to trace our past and plot our future\, using 88 KehilaLinks\, over 760 WordPress blog entries\, Facebook posts\, and other social media. He will also discuss Jewish heritage travels in the actual and virtual worlds.
LOCATION:Online
UID:e.1775.16248
SEQUENCE:3
DTSTAMP:20260421T065257Z
URL:https://business.northcenterchamber.com/events/details/jewish-genealogical-society-of-illinois-free-live-webinar-05-23-2021-16248
END:VEVENT

END:VCALENDAR
