BEGIN:VCALENDAR
VERSION:2.0
PRODID:-//ChamberMaster//Event Calendar 2.0//EN
METHOD:PUBLISH
X-PUBLISHED-TTL:P3D
REFRESH-INTERVAL:P3D
CALSCALE:GREGORIAN
BEGIN:VEVENT
DTSTART:20210627T190000Z
DTEND:20210627T210000Z
X-MICROSOFT-CDO-ALLDAYEVENT:FALSE
SUMMARY:Jewish Genealogical Society of Illinois free live webinar
DESCRIPTION:The Jewish Genealogical Society of Illinois will hold a virtual "Kvell and Tell" live streaming session in which members share family history research tips and discoveries at 2 p.m. CDT\, Sunday\, June 27\, 2021\, as part of the group's annual meeting. For more information\, call 312-666-0100 or see https://jgsi.org/Events-calendar. The varied\, entertaining and informative short "Kvell and Tell" talk topics relate to Jewish genealogy or family history research methods\, anecdotes or discoveries.
X-ALT-DESC;FMTTYPE=text/html:The Jewish Genealogical Society of Illinois will hold a virtual &ldquo\;Kvell and Tell&rdquo\; live streaming session in which members share family history research tips and discoveries at 2 p.m. CDT\, Sunday\, June 27\, 2021\, as part of the group&rsquo\;s annual meeting. For more information\, call 312-666-0100 or see https://jgsi.org/Events-calendar. The varied\, entertaining and informative short &ldquo\;Kvell and Tell&rdquo\; talk topics relate to Jewish genealogy or family history research methods\, anecdotes or discoveries.
LOCATION:Virtual\, from the convenience of your home computer
UID:e.1775.16294
SEQUENCE:3
DTSTAMP:20260421T045356Z
URL:https://business.northcenterchamber.com/events/details/jewish-genealogical-society-of-illinois-free-live-webinar-06-27-2021-16294
END:VEVENT

END:VCALENDAR
