BEGIN:VCALENDAR
VERSION:2.0
PRODID:-//ChamberMaster//Event Calendar 2.0//EN
METHOD:PUBLISH
X-PUBLISHED-TTL:P3D
REFRESH-INTERVAL:P3D
CALSCALE:GREGORIAN
BEGIN:VEVENT
DTSTART:20210725T190000Z
DTEND:20210725T210000Z
X-MICROSOFT-CDO-ALLDAYEVENT:FALSE
SUMMARY:Jewish Genealogical Society of Illinois free live webinar
DESCRIPTION:"A History of Jewish Name Changing in America" is the title of a free genealogy webinar planned for the Sunday\, July 25\, 2021\, virtual meeting of the Jewish Genealogical Society of Illinois. This live streaming genealogy talk will begin at 2 p.m. CDT. For details on this free event\, call 312-666-0100 or go to https://jgsi.org/Events-calendar.
X-ALT-DESC;FMTTYPE=text/html:&ldquo\;A History of Jewish Name Changing in America&rdquo\; is the title of a free genealogy webinar planned for the Sunday\, July 25\, 2021\, virtual meeting of the Jewish Genealogical Society of Illinois. This live streaming genealogy talk will begin at 2 p.m. CDT. For details on this free event\, call 312-666-0100 or go to https://jgsi.org/Events-calendar.
LOCATION:Online
UID:e.1775.16313
SEQUENCE:3
DTSTAMP:20260421T030552Z
URL:https://business.northcenterchamber.com/events/details/jewish-genealogical-society-of-illinois-free-live-webinar-07-25-2021-16313
END:VEVENT

END:VCALENDAR
