BEGIN:VCALENDAR
VERSION:2.0
PRODID:-//ChamberMaster//Event Calendar 2.0//EN
METHOD:PUBLISH
X-PUBLISHED-TTL:P3D
REFRESH-INTERVAL:P3D
CALSCALE:GREGORIAN
BEGIN:VEVENT
DTSTART:20210829T190000Z
DTEND:20210829T210000Z
X-MICROSOFT-CDO-ALLDAYEVENT:FALSE
SUMMARY:Jewish Genealogical Society of Illinois free live webinar
DESCRIPTION:"What the Genealogist Needs to Know About Jewish Family Names" will be the webinar topic of Sallyann Amdur Sack-Pikus\, co-owner\, founder and editor of AVOTAYNU\, the International Review of Jewish Genealogy\, at 2 p.m. CDT\, Sunday\, Aug. 29\, 2021\, for the virtual meeting of the Jewish Genealogical Society of Illinois. For more information\, go to https://jgsi.org/Events-calendar or call 312-666-0100. In this talk\, we will hear how\, why and when Jews acquired family names\; what kinds of names they adopted\; some special aspects of rabbinical names\; techniques devised to avoid being identified\; spelling considerations\; Soundex\; the variable effects of emigration\; expert sources\; and a few words about how to locate maiden names and married names of women.
X-ALT-DESC;FMTTYPE=text/html:&ldquo\;What the Genealogist Needs to Know About Jewish Family Names&rdquo\; will be the webinar topic of Sallyann Amdur Sack-Pikus\, co-owner\, founder and editor of AVOTAYNU\, the International Review of Jewish Genealogy\, at 2 p.m. CDT\, Sunday\, Aug. 29\, 2021\, for the virtual meeting of the Jewish Genealogical Society of Illinois. For more information\, go to https://jgsi.org/Events-calendar or call 312-666-0100. In this talk\, we will hear how\, why and when Jews acquired family names\; what kinds of names they adopted\; some special aspects of rabbinical names\; techniques devised to avoid being identified\; spelling considerations\; Soundex\; the variable effects of emigration\; expert sources\; and a few words about how to locate maiden names and married names of women.
LOCATION:Online
UID:e.1775.16337
SEQUENCE:3
DTSTAMP:20260421T012017Z
URL:https://business.northcenterchamber.com/events/details/jewish-genealogical-society-of-illinois-free-live-webinar-08-29-2021-16337
END:VEVENT

END:VCALENDAR
