BEGIN:VCALENDAR
VERSION:2.0
PRODID:-//ChamberMaster//Event Calendar 2.0//EN
METHOD:PUBLISH
X-PUBLISHED-TTL:P3D
REFRESH-INTERVAL:P3D
CALSCALE:GREGORIAN
BEGIN:VEVENT
DTSTART:20211024T180000Z
DTEND:20211024T210000Z
X-MICROSOFT-CDO-ALLDAYEVENT:FALSE
SUMMARY:Jewish Genealogical Society of Illinois free live webinar
DESCRIPTION:"Here Comes The 1950 Census: What To Expect" and "Finding Difficult Passengers on the Ellis Island Manifests" will be presented by Joel Weintraub for the Sunday\, Oct. 24\, 2021\, meeting of the Jewish Genealogical Society of Illinois\, starting at 1 p.m. CDT. Register/RSVP at: https://jgsi.org/event-4118898. In "Here Comes The 1950 Census: What To Expect\," Joel will prepare family history researchers for when the1950 U.S. Census will become public on April 1\, 2022. In "Finding Difficult Passengers on the Ellis Island Manifests\," he will demonstrate 10 different strategies to help you locate the records of your elusive immigrant ancestors.
X-ALT-DESC;FMTTYPE=text/html:&ldquo\;Here Comes The 1950 Census: What To Expect&rdquo\; and &ldquo\;Finding Difficult Passengers on the Ellis Island Manifests&rdquo\; will be presented by Joel Weintraub for the Sunday\, Oct. 24\, 2021\, meeting of the Jewish Genealogical Society of Illinois\, starting at 1 p.m. CDT. Register/RSVP at: https://jgsi.org/event-4118898. In &ldquo\;Here Comes The 1950 Census: What To Expect\,&rdquo\; Joel will prepare family history researchers for when the1950 U.S. Census will become public on April 1\, 2022. In &ldquo\;Finding Difficult Passengers on the Ellis Island Manifests\,&rdquo\; he will demonstrate 10 different strategies to help you locate the records of your elusive immigrant ancestors.
LOCATION:Online
UID:e.1775.16352
SEQUENCE:3
DTSTAMP:20260420T214738Z
URL:https://business.northcenterchamber.com/events/details/jewish-genealogical-society-of-illinois-free-live-webinar-10-24-2021-16352
END:VEVENT

END:VCALENDAR
