BEGIN:VCALENDAR
VERSION:2.0
PRODID:-//ChamberMaster//Event Calendar 2.0//EN
METHOD:PUBLISH
X-PUBLISHED-TTL:P3D
REFRESH-INTERVAL:P3D
CALSCALE:GREGORIAN
BEGIN:VEVENT
DTSTART:20211114T200000Z
DTEND:20211114T220000Z
X-MICROSOFT-CDO-ALLDAYEVENT:FALSE
SUMMARY:Jewish Genealogical Society of Illinois free live webinar
DESCRIPTION:"Resources for Jewish Genealogy in Chicagoland What's New" will be the topic of a talk by genealogist Mike Karsen for the Sunday\, Nov. 14\, 2021\, Jewish Genealogical Society of Illinois virtual meeting. Register/RSVP for this free event at https://jgsi.org/event-4118903. After registering\, you will receive a link to join the meeting. The talk\, which will begin at 2 p.m. CST\, will be preceded at 1 p.m. by a separate members-only genealogy question-and-answer discussion.
X-ALT-DESC;FMTTYPE=text/html:&ldquo\;Resources for Jewish Genealogy in Chicagoland&mdash\;What&rsquo\;s New&rdquo\; will be the topic of a talk by genealogist Mike Karsen for the Sunday\, Nov. 14\, 2021\, Jewish Genealogical Society of Illinois virtual meeting. Register/RSVP for this free event at https://jgsi.org/event-4118903. After registering\, you will receive a link to join the meeting. The talk\, which will begin at 2 p.m. CST\, will be preceded at 1 p.m. by a separate members-only genealogy question-and-answer discussion.
LOCATION:Online
UID:e.1775.16363
SEQUENCE:3
DTSTAMP:20260420T200828Z
URL:https://business.northcenterchamber.com/events/details/jewish-genealogical-society-of-illinois-free-live-webinar-11-14-2021-16363
END:VEVENT

END:VCALENDAR
