BEGIN:VCALENDAR
VERSION:2.0
PRODID:-//ChamberMaster//Event Calendar 2.0//EN
METHOD:PUBLISH
X-PUBLISHED-TTL:P3D
REFRESH-INTERVAL:P3D
CALSCALE:GREGORIAN
BEGIN:VEVENT
DTSTART:20210221T190000Z
DTEND:20210221T220000Z
X-MICROSOFT-CDO-ALLDAYEVENT:FALSE
SUMMARY:Jewish Genealogical Society of Illinois free live webinar
DESCRIPTION:Jewish Genealogical Society of Illinois member Ava "Sherlock" Cohn will present a webinar called "Clued-In: Interpreting Real Photo Postcards from the Diaspora" at 1 p.m. CST\, Sunday\, Feb. 21\, 2021\, for the JGSI virtual monthly meeting. After that talk\, from about 2:30 to 3:30 p.m.\, Ava will analyze a limited number of old family history photos submitted by JGSI members.\n\n\n\nRegister/RSVP at: https://jgsi.org/event-3980888.
X-ALT-DESC;FMTTYPE=text/html:Jewish Genealogical Society of Illinois member Ava &ldquo\;Sherlock&rdquo\; Cohn will present a webinar called &ldquo\;Clued-In: Interpreting Real Photo Postcards from the Diaspora&rdquo\; at 1 p.m. CST\, Sunday\, Feb. 21\, 2021\, for the JGSI virtual monthly meeting. After that talk\, from about 2:30 to 3:30 p.m.\, Ava will analyze a limited number of old family history photos submitted by JGSI members.<br />\n<br />\nRegister/RSVP at: <a href="https://jgsi.org/event-3980888">https://jgsi.org/event-3980888</a>.
LOCATION:From the convenience of your home computer.
UID:e.1775.16059
SEQUENCE:3
DTSTAMP:20260425T123047Z
URL:https://business.northcenterchamber.com/events/details/jewish-genealogical-society-of-illinois-free-live-webinar-16059
END:VEVENT

END:VCALENDAR
