BEGIN:VCALENDAR
VERSION:2.0
PRODID:-//ChamberMaster//Event Calendar 2.0//EN
METHOD:PUBLISH
X-PUBLISHED-TTL:P3D
REFRESH-INTERVAL:P3D
CALSCALE:GREGORIAN
BEGIN:VEVENT
DTSTART:20220315T230000Z
DTEND:20220316T000000Z
X-MICROSOFT-CDO-ALLDAYEVENT:FALSE
SUMMARY:Join us for the first in a series of community conversations about the impact of deconversions and demolitions
DESCRIPTION:Dear neighbor\,\n\nJoin us for the first in a series of community conversations about the impact of deconversions and demolitions of two- and three-flats in Lincoln Square and Northcenter. In the past five years\, both community areas have lost affordable homes at a faster rate than nearly every other neighborhood in Chicago. And the deconversion and demolition of small multi-unit buildings continues to contribute to that rapid loss of affordability.\n\n \n\n   RSVP for virtual conversation on Deconversions and Demolitions   \n\n \n\nOne of the first events I attended after being elected in 2019 was a community discussion hosted by the Northcenter Neighborhood Association (NNA) about the loss of two- and three-flats. Now\, we're building on that important work. On Tuesday\, March 15 at 6 PM\, come join experts from DePaul University's Institute for Housing Studies\, the city's Department of Housing\, and the Preservation Compact as they discuss efforts and ideas to preserve affordability. Throughout this series of community conversations\, my office will seek neighbors' feedback on potential solutions through a public survey and discussion.\n\n \n\nYours in service\,\n\nAlderman Matt Martin
X-ALT-DESC;FMTTYPE=text/html:<p align="left" style="color: rgb(96\, 109\, 120)\; font-family: Helvetica\, Arial\, sans-serif\; font-size: 16px\; margin: 0px\;"><span style="font-size:14px\;">Dear neighbor\,</span></p>\n\n<p align="left" style="color: rgb(96\, 109\, 120)\; font-family: Helvetica\, Arial\, sans-serif\; font-size: 16px\; margin: 0px\;"><span style="font-size:14px\;"><span style="font-weight: bold\;">Join us for the first in a series of community conversations about the impact of deconversions and&nbsp\;demolitions of&nbsp\;two- and three-flats</span>&nbsp\;in&nbsp\;Lincoln Square and Northcenter. In the past five years\, both community areas have lost&nbsp\;affordable homes&nbsp\;at a faster rate than nearly every other neighborhood in Chicago. And the deconversion and&nbsp\;demolition&nbsp\;of&nbsp\;small multi-unit buildings<span style="font-weight: bold\;">&nbsp\;</span>continues to contribute to that rapid loss of affordability.</span></p>\n\n<p align="left" style="color: rgb(96\, 109\, 120)\; font-family: Helvetica\, Arial\, sans-serif\; font-size: 16px\; margin: 0px\;">&nbsp\;</p>\n\n<p align="center" style="color: rgb(96\, 109\, 120)\; font-family: Helvetica\, Arial\, sans-serif\; font-size: 16px\; text-align: center\; margin: 0px\;"><span style="font-size:14px\;"><a data-saferedirecturl="https://www.google.com/url?q=https://r20.rs6.net/tn.jsp?f%3D0014QiSbbNdpKD8GKKIH5BxKzXur5aUk4te4bcaFi4LbmXxMmwrp6HDem30dAkdkq6OzGqwX-n51uWomiGtN5hcNjOtMQGbo1gmR8IaATAzW9aDacCRBBYMj69JQbjAS6lFTFytomQtEPk%3D%26c%3DXrT9ho8xSIg1283Lf5gtuO9Zrh3ns4g1bkjQ8qG_aOGekwhaehYt4g%3D%3D%26ch%3DoOWy_r6ZIme_oT4bytUn7x4933k295pHHSFSbbKy2UbnfsnPJpj0Lg%3D%3D&amp\;source=gmail&amp\;ust=1646848271660000&amp\;usg=AOvVaw3nMRl_dAQMdK8a1XBUHkhx" href="https://us02web.zoom.us/meeting/register/tZUvcOCoqj8vHdEIu2b75fSRs-JUfIORewmv" style="color: rgb(49\, 95\, 195)\; font-family: Arial\, Verdana\, Helvetica\, sans-serif\; font-weight: bold\; text-decoration-line: none\;" target="_blank">&gt\;&gt\; RSVP for virtual conversation on Deconversions and&nbsp\;Demolitions&nbsp\;&lt\;&lt\;</a></span></p>\n\n<p align="left" style="color: rgb(96\, 109\, 120)\; font-family: Helvetica\, Arial\, sans-serif\; font-size: 16px\; margin: 0px\;">&nbsp\;</p>\n\n<p align="left" style="color: rgb(96\, 109\, 120)\; font-family: Helvetica\, Arial\, sans-serif\; font-size: 16px\; margin: 0px\;"><span style="font-size:14px\;">One of the first events I attended after being elected&nbsp\;in 2019&nbsp\;was a community discussion hosted by&nbsp\;the&nbsp\;Northcenter Neighborhood&nbsp\;Association (NNA)&nbsp\;about the&nbsp\;loss&nbsp\;of&nbsp\;two- and three-flats. Now\, we&#39\;re building on that important work. On&nbsp\;<span style="font-weight: bold\;">Tuesday\, March 15 at 6 PM</span>\,&nbsp\;come&nbsp\;join experts&nbsp\;from&nbsp\;DePaul University&#39\;s&nbsp\;Institute for Housing Studies\, the city&#39\;s Department of Housing\, and the Preservation Compact&nbsp\;as they discuss&nbsp\;efforts and ideas to preserve affordability.&nbsp\;Throughout this series of community&nbsp\;conversations\, my office&nbsp\;will seek neighbors&#39\; feedback on potential solutions through a public survey and discussion.</span></p>\n\n<p align="left" style="color: rgb(96\, 109\, 120)\; font-family: Helvetica\, Arial\, sans-serif\; font-size: 16px\; margin: 0px\;">&nbsp\;</p>\n\n<p align="left" style="color: rgb(96\, 109\, 120)\; font-family: Helvetica\, Arial\, sans-serif\; font-size: 16px\; margin: 0px\;"><span style="font-size:14px\;"><span style="font-family: Arial\, Verdana\, Helvetica\, sans-serif\;">Yours in service\,</span></span></p>\n\n<p align="left" style="color: rgb(96\, 109\, 120)\; font-family: Helvetica\, Arial\, sans-serif\; font-size: 16px\; margin: 0px\;"><span style="font-size:14px\;"><span style="font-family: Arial\, Verdana\, Helvetica\, sans-serif\;">Alderman Matt Martin</span></span></p>\n
LOCATION:Tuesday\, March 15 at 6 PM\,
UID:e.1775.16846
SEQUENCE:3
DTSTAMP:20260420T134844Z
URL:https://business.northcenterchamber.com/events/details/join-us-for-the-first-in-a-series-of-community-conversations-about-the-impact-of-deconversions-and-demolitions-16846
END:VEVENT

END:VCALENDAR
