BEGIN:VCALENDAR
VERSION:2.0
PRODID:-//ChamberMaster//Event Calendar 2.0//EN
METHOD:PUBLISH
X-PUBLISHED-TTL:P3D
REFRESH-INTERVAL:P3D
CALSCALE:GREGORIAN
BEGIN:VEVENT
DTSTART:20220326T170000Z
DTEND:20220326T200000Z
X-MICROSOFT-CDO-ALLDAYEVENT:FALSE
SUMMARY:Kaffee\, Kuchen\, und Kino
DESCRIPTION:Join us on the 1st and 3rd Saturday of each month for a free German language film screening! Kaffee und Kuchen (coffee & cakes) will be served at 12:00 PM and the film will begin at 1:00 PM. Stick around after the credits roll to discuss the film and flex your German language skills.\n\n\n\n2nd Floor\, Brauhaus Room
X-ALT-DESC;FMTTYPE=text/html:Join us on the 1st and 3rd Saturday of each month for a free German language film screening! Kaffee und Kuchen (coffee &amp\; cakes) will be served at 12:00 PM and the film will begin at 1:00 PM. Stick around after the credits roll to discuss the film and flex your German language skills.<br />\n<br />\n2nd Floor\, Brauhaus Room
LOCATION:4740 North Western Ave. Chicago\, IL 60625 2nd Floor\, Brauhaus Room
UID:e.1775.16821
SEQUENCE:3
DTSTAMP:20260420T153344Z
URL:https://business.northcenterchamber.com/events/details/kaffee-kuchen-und-kino-03-26-2022-16821
END:VEVENT

END:VCALENDAR
