BEGIN:VCALENDAR
VERSION:2.0
PRODID:-//ChamberMaster//Event Calendar 2.0//EN
METHOD:PUBLISH
X-PUBLISHED-TTL:P3D
REFRESH-INTERVAL:P3D
CALSCALE:GREGORIAN
BEGIN:VEVENT
DTSTART:20220409T170000Z
DTEND:20220409T200000Z
X-MICROSOFT-CDO-ALLDAYEVENT:FALSE
SUMMARY:Kaffee\, Kuchen\, und Kino
DESCRIPTION:Join us on twice a month on Saturday for a German language film screening! Kaffee und Kuchen (coffee & cakes) will be served at 12:00 PM and the film will begin at 1:00 PM. Stick around after the credits roll to discuss the film and flex your German language skills.\n\n\n\nUpcoming Dates & Films:\n\n	9. April 2022 - Drei Groschen Opern*\n	23. April 2022 - Die lustige Witwe*\n	07. Mai 2022 - TBA\n\n*Subject to change\n\n\n\nPlease email samantha@dankhaus.com or call us at 773-561-9181 with any questions or volunteer inquiries!
X-ALT-DESC;FMTTYPE=text/html:Join us on twice a month on Saturday for a German language film screening! Kaffee und Kuchen (coffee &amp\; cakes) will be served at 12:00 PM and the film will begin at 1:00 PM. Stick around after the credits roll to discuss the film and flex your German language skills.<br />\n<br />\nUpcoming Dates &amp\; Films:\n<ul>\n	<li>9. April 2022 - Drei Groschen Opern*</li>\n	<li>23. April 2022 - Die lustige Witwe*</li>\n	<li>07. Mai 2022 - TBA</li>\n</ul>\n*Subject to change<br />\n<br />\nPlease email samantha@dankhaus.com or call us at 773-561-9181 with any questions or volunteer inquiries!
LOCATION:4740 N. Western Ave. Chicago\, IL 60625
UID:e.1775.16956
SEQUENCE:3
DTSTAMP:20260420T153428Z
URL:https://business.northcenterchamber.com/events/details/kaffee-kuchen-und-kino-04-09-2022-16956
END:VEVENT

END:VCALENDAR
