BEGIN:VCALENDAR
VERSION:2.0
PRODID:-//ChamberMaster//Event Calendar 2.0//EN
METHOD:PUBLISH
X-PUBLISHED-TTL:P3D
REFRESH-INTERVAL:P3D
CALSCALE:GREGORIAN
BEGIN:VEVENT
DTSTART:20201012T143000Z
DTEND:20201012T160000Z
X-MICROSOFT-CDO-ALLDAYEVENT:FALSE
SUMMARY:Kids Music Class With Camille McClain
DESCRIPTION:Weekly music class for children ages 5 and under\n\nhttps://www.merrymusicmakers.com/
X-ALT-DESC;FMTTYPE=text/html:<div class="emOPE___entry-EntryContainer__cls1" data-component="entry" style="box-sizing: inherit\; position: relative\; margin-bottom: 20px\; color: rgb(77\, 80\, 85)\; font-family: &quot\;Proxima Nova&quot\;\, sans-serif\; font-size: 16px\;">\n<div class="mbm _3cQHZ___questions-Item__cls1" style="box-sizing: inherit\; margin-bottom: 20px\;">\n<div style="box-sizing: inherit\;">Weekly music class for children ages 5 and under</div>\n\n<div>https://www.merrymusicmakers.com/</div>\n</div>\n</div>\n
LOCATION:Northcenter Town Square - 4100 N Damen Ave
UID:e.1775.16004
SEQUENCE:3
DTSTAMP:20260425T191439Z
URL:https://business.northcenterchamber.com/events/details/kids-music-class-with-camille-mcclain-10-12-2020-16004
END:VEVENT

END:VCALENDAR
