BEGIN:VCALENDAR
VERSION:2.0
PRODID:-//ChamberMaster//Event Calendar 2.0//EN
METHOD:PUBLISH
X-PUBLISHED-TTL:P3D
REFRESH-INTERVAL:P3D
CALSCALE:GREGORIAN
BEGIN:VEVENT
DTSTART:20200723T220000Z
DTEND:20200723T230000Z
X-MICROSOFT-CDO-ALLDAYEVENT:FALSE
SUMMARY:Kidsave Virtual Miracles Gala
DESCRIPTION:Kidsave is having a free\, nationwide virtual Miracles Gala on Thursday\, July 23\, 6:00 pm ET\, repeated at 6:00 pm PT! We hope you will join us as this event is open to the public. The 1-hour gala will include visits from Hollywood celebrities including Jennifer Garner\, Jennifer Love-Hewitt\, Molly Sims\, Miss Ukraine\, some magic\, a stunning classical guitarist\, lots of Kidsave kids and families\, some auction getaways\, and much more. We'll share news of how Kidsave is adapting to the new normal with virtual meetings   and still finding families for foster kids and orphans   and how COVID-19 is bringing surprising efficiencies to child welfare systems.
X-ALT-DESC;FMTTYPE=text/html:Kidsave is having a free\, nationwide virtual Miracles Gala on Thursday\, July 23\, 6:00 pm ET\, repeated at 6:00 pm PT! We hope you will join us as this event is open to the public. The 1-hour gala will include visits from Hollywood celebrities including Jennifer Garner\, Jennifer Love-Hewitt\, Molly Sims\, Miss Ukraine\, some magic\, a stunning classical guitarist\, lots of Kidsave kids and families\, some auction getaways\, and much more. We&rsquo\;ll share news of how Kidsave is adapting to the new normal with virtual meetings &ndash\; and still finding families for foster kids and orphans &ndash\; and how COVID-19 is bringing surprising efficiencies to child welfare systems.
LOCATION:Online: https://one.bidpal.net/kidsave2020/welcome
UID:e.1775.14441
SEQUENCE:3
DTSTAMP:20260426T000757Z
URL:https://business.northcenterchamber.com/events/details/kidsave-virtual-miracles-gala-14441
END:VEVENT

END:VCALENDAR
