BEGIN:VCALENDAR
VERSION:2.0
PRODID:-//ChamberMaster//Event Calendar 2.0//EN
METHOD:PUBLISH
X-PUBLISHED-TTL:P3D
REFRESH-INTERVAL:P3D
CALSCALE:GREGORIAN
BEGIN:VEVENT
DTSTART:20220430T210000Z
DTEND:20220430T230000Z
X-MICROSOFT-CDO-ALLDAYEVENT:FALSE
SUMMARY:Lake Shore Symphony Pops concert
DESCRIPTION:Enjoy your favorite Light Classics\, Broadway\, and Pops music with a complimentary dessert!
X-ALT-DESC;FMTTYPE=text/html:Enjoy your favorite Light Classics\, Broadway\, and Pops music with a complimentary dessert!
LOCATION:Ebenezer Lutheran Church 1650 W Foster Ave Chicago\, IL 60640
UID:e.1775.17003
SEQUENCE:3
DTSTAMP:20260420T115907Z
URL:https://business.northcenterchamber.com/events/details/lake-shore-symphony-pops-concert-17003
END:VEVENT

END:VCALENDAR
