BEGIN:VCALENDAR
VERSION:2.0
PRODID:-//ChamberMaster//Event Calendar 2.0//EN
METHOD:PUBLISH
X-PUBLISHED-TTL:P3D
REFRESH-INTERVAL:P3D
CALSCALE:GREGORIAN
BEGIN:VEVENT
DTSTART:20211024T190000Z
DTEND:20211024T210000Z
X-MICROSOFT-CDO-ALLDAYEVENT:FALSE
SUMMARY:Lakeview Orchestra: IRREPRESSIBLE SEVENTH Symphony: Music to Overcome Troubles and Celebrate Reopening
DESCRIPTION:Lakeview Orchestra announces the first indoor concert performances for audiences at the Athenaeum Theatre since the beginning of the COVID-19 pandemic. Symphonic Variations on an African Air by Samuel Coleridge-Taylor will open the concert\, followed by hornist Matthew Bronstein performing Richard Strauss' Horn Concerto No. 1. Following an intermission\, Beethoven's Symphony No. 7 will be performed to conclude the program. Lakeview Orchestra Artistic Director Gregory Hughes will conduct. Attendees will be required to show proof of vaccination or negative test upon arrival at the Athenaeum Theatre. All patrons are required to wear face coverings at all times regardless of vaccination status\, including while seated during the performance. More information about Lakeview Orchestra health and safety protocols is available at lakevieworchestra.org/health. Tickets are on sale at lakevieworchestra.org/tickets.
X-ALT-DESC;FMTTYPE=text/html:Lakeview Orchestra announces the first indoor concert performances for audiences at the Athenaeum Theatre since the beginning of the COVID-19 pandemic. Symphonic Variations on an African Air by Samuel Coleridge-Taylor will open the concert\, followed by hornist Matthew Bronstein performing Richard Strauss&rsquo\; Horn Concerto No. 1. Following an intermission\, Beethoven&rsquo\;s Symphony No. 7 will be performed to conclude the program. Lakeview Orchestra Artistic Director Gregory Hughes will conduct. Attendees will be required to show proof of vaccination or negative test upon arrival at the Athenaeum Theatre. All patrons are required to wear face coverings at all times regardless of vaccination status\, including while seated during the performance. More information about Lakeview Orchestra health and safety protocols is available at lakevieworchestra.org/health. Tickets are on sale at lakevieworchestra.org/tickets.
LOCATION:Athenaeum Theatre (2936 N Southport Ave\, Chicago)
UID:e.1775.16359
SEQUENCE:3
DTSTAMP:20260420T214856Z
URL:https://business.northcenterchamber.com/events/details/lakeview-orchestra-irrepressible-seventh-symphony-music-to-overcome-troubles-and-celebrate-reopening-16359
END:VEVENT

END:VCALENDAR
