BEGIN:VCALENDAR
VERSION:2.0
PRODID:-//ChamberMaster//Event Calendar 2.0//EN
METHOD:PUBLISH
X-PUBLISHED-TTL:P3D
REFRESH-INTERVAL:P3D
CALSCALE:GREGORIAN
BEGIN:VEVENT
DTSTART:20260425T220000Z
DTEND:20260426T020000Z
X-MICROSOFT-CDO-ALLDAYEVENT:FALSE
SUMMARY:Lincoln Square Pottery Studio Anniversary Sale & Show
DESCRIPTION:Join us Saturday 4/25 from 5-9PM for our 23rd Anniversary Sale & Show! at 4150 N. Lincoln Ave\, Chicago\n\n\n\nBrowse works by more than 30 of our talented ceramic artists\, with 100% of their sales going directly back to their creative endeavors.\n\n\n\nEnjoy the pottery making competitions as our students test their skills and talent.\n\n\n\nPick your own artist made mug at our Buy-A-Cup Benefit with 100% of the proceeds going towards our Scholarship Fund.\n\n\n\nStop by the studio and find sculpture\, kitchenware\, vases\, and hundreds of other beautiful pieces. Visit our inclusive community to peruse displays all year round. Open Monday-Sunday. \n\n\n\nThis event is free and open to the public.
X-ALT-DESC;FMTTYPE=text/html:Join us Saturday 4/25 from 5-9PM for our 23rd Anniversary Sale &amp\; Show! at 4150 N. Lincoln Ave\, Chicago<br />\n<br />\nBrowse works by more than 30 of our talented ceramic artists\, with 100% of their sales going directly back to their creative endeavors.<br />\n<br />\nEnjoy the pottery making competitions as our students test their skills and talent.<br />\n<br />\nPick your own artist made mug at our Buy-A-Cup Benefit with 100% of the proceeds going towards our Scholarship Fund.<br />\n<br />\nStop by the studio and find sculpture\, kitchenware\, vases\, and hundreds of other beautiful pieces. Visit our inclusive community to peruse displays all year round. Open Monday-Sunday.&nbsp\;<br />\n<br />\nThis event is free and open to the public.
LOCATION:4150 N. Lincoln Ave
UID:e.1775.21860
SEQUENCE:3
DTSTAMP:20260424T195458Z
URL:https://business.northcenterchamber.com/events/details/lincoln-square-pottery-studio-anniversary-sale-show-21860
END:VEVENT

END:VCALENDAR
